BEGIN:VCALENDAR
VERSION:2.0
PRODID:-//192.99.84.55//NONSGML kigkonsult.se iCalcreator 2.20//
CALSCALE:GREGORIAN
METHOD:PUBLISH
X-WR-TIMEZONE:UTC
BEGIN:VEVENT
UID:event1473@Congreso 2017
DTSTAMP:20260421T032158Z
CATEGORIES:16. Políticas culturales\, patrimonio y turismo\, Simposio: Mult
 iculturalismos en América Latina hoy
DESCRIPTION:La sospecha de “lo indígena”. Reflexiones a partir del lenguaje
  judicial en México\nCategoría: 16. Políticas culturales\, patrimonio y tu
 rismo\, Simposio: Multiculturalismos en América Latina hoy\nEnlace: https:
 //www.asociacionlatinoamericanadeantropologia.net/congreso2017/index.php?o
 ption=com_jem&view=event&id=1473:la-sospecha-de-lo-indigena-reflexiones-a-
 partir-del-lenguaje-judicial-en-mexico\n
DTSTART:20170606T140000Z
DTEND:20170606T180000Z
LOCATION:Edificio: 02 Salón: 402\,Universidad Javeriana\,Bogotá
SUMMARY:La sospecha de “lo indígena”. Reflexiones a partir del lenguaje jud
 icial en México
URL:https://www.asociacionlatinoamericanadeantropologia.net/congreso2017/in
 dex.php?option=com_jem&view=event&id=1473:la-sospecha-de-lo-indigena-refle
 xiones-a-partir-del-lenguaje-judicial-en-mexico
END:VEVENT
END:VCALENDAR
