BEGIN:VCALENDAR
VERSION:2.0
PRODID:-//192.99.84.55//NONSGML kigkonsult.se iCalcreator 2.20//
CALSCALE:GREGORIAN
METHOD:PUBLISH
X-WR-TIMEZONE:UTC
BEGIN:VEVENT
UID:event1472@Congreso 2017
DTSTAMP:20260421T032244Z
CATEGORIES:16. Políticas culturales\, patrimonio y turismo\, Simposio: Mult
 iculturalismos en América Latina hoy
DESCRIPTION:Las poblaciones indígenas desplazadas en la ciudad\, otra encru
 cijada del multiculturalismo colombiano\nCategoría: 16. Políticas cultural
 es\, patrimonio y turismo\, Simposio: Multiculturalismos en América Latina
  hoy\nEnlace: https://www.asociacionlatinoamericanadeantropologia.net/cong
 reso2017/index.php?option=com_jem&view=event&id=1472:las-poblaciones-indig
 enas-desplazadas-en-la-ciudad-otra-encrucijada-del-multiculturalismo-colom
 biano\n
DTSTART:20170606T140000Z
DTEND:20170606T180000Z
LOCATION:Edificio: 02 Salón: 402\,Universidad Javeriana\,Bogotá
SUMMARY:Las poblaciones indígenas desplazadas en la ciudad\, otra encrucija
 da del multiculturalismo colombiano
URL:https://www.asociacionlatinoamericanadeantropologia.net/congreso2017/in
 dex.php?option=com_jem&view=event&id=1472:las-poblaciones-indigenas-despla
 zadas-en-la-ciudad-otra-encrucijada-del-multiculturalismo-colombiano
END:VEVENT
END:VCALENDAR
