BEGIN:VCALENDAR
VERSION:2.0
PRODID:-//192.99.84.55//NONSGML kigkonsult.se iCalcreator 2.20//
CALSCALE:GREGORIAN
METHOD:PUBLISH
X-WR-TIMEZONE:UTC
BEGIN:VEVENT
UID:event144@Congreso 2017
DTSTAMP:20260420T235514Z
CATEGORIES:1. Geopolíticas del conocimiento y antropologías del sur\, Simpo
 sio: Hacia una etnografía irreverente y comprometida 
DESCRIPTION:A baianidade e os microempreendedores: um estudo sobre o saber-
 fazer na perspectiva do 'cacete armado' \nCategoría: 1. Geopolíticas del c
 onocimiento y antropologías del sur\, Simposio: Hacia una etnografía irrev
 erente y comprometida \nEnlace: https://www.asociacionlatinoamericanadeant
 ropologia.net/congreso2017/index.php?option=com_jem&view=event&id=144:a-ba
 ianidade-e-os-microempreendedores-um-estudo-sobre-o-saber-fazer-na-perspec
 tiva-do-cacete-armado\n
DTSTART:20170607T090000Z
DTEND:20170607T110000Z
LOCATION:Edificio: 67 Salón: 212\,Universidad Javeriana\,Bogotá
SUMMARY:A baianidade e os microempreendedores: um estudo sobre o saber-faze
 r na perspectiva do 'cacete armado' 
URL:https://www.asociacionlatinoamericanadeantropologia.net/congreso2017/in
 dex.php?option=com_jem&view=event&id=144:a-baianidade-e-os-microempreended
 ores-um-estudo-sobre-o-saber-fazer-na-perspectiva-do-cacete-armado
END:VEVENT
END:VCALENDAR
