BEGIN:VCALENDAR
VERSION:2.0
PRODID:-//192.99.84.55//NONSGML kigkonsult.se iCalcreator 2.20//
CALSCALE:GREGORIAN
METHOD:PUBLISH
X-WR-TIMEZONE:UTC
BEGIN:VEVENT
UID:event139@Congreso 2017
DTSTAMP:20260420T235532Z
CATEGORIES:1. Geopolíticas del conocimiento y antropologías del sur\, Simpo
 sio: promovido por el comité académico del congreso. Geopolíticas del cono
 cimiento antropológic
DESCRIPTION:Para una revisión del programa antropologías en el mundo: las c
 ondiciones políticas de la disidencia intelectual\nCategoría: 1. Geopolíti
 cas del conocimiento y antropologías del sur\, Simposio: promovido por el 
 comité académico del congreso. Geopolíticas del conocimiento antropológic
 \nEnlace: https://www.asociacionlatinoamericanadeantropologia.net/congreso
 2017/index.php?option=com_jem&view=event&id=139:para-una-revision-del-prog
 rama-antropologias-en-el-mundo-las-condiciones-politicas-de-la-disidencia-
 intelectual\n
DTSTART:20170608T090000Z
DTEND:20170608T110000Z
LOCATION:Edificio: 67 Salón: 508\,Universidad Javeriana\,Bogotá
SUMMARY:Para una revisión del programa antropologías en el mundo: las condi
 ciones políticas de la disidencia intelectual
URL:https://www.asociacionlatinoamericanadeantropologia.net/congreso2017/in
 dex.php?option=com_jem&view=event&id=139:para-una-revision-del-programa-an
 tropologias-en-el-mundo-las-condiciones-politicas-de-la-disidencia-intelec
 tual
END:VEVENT
END:VCALENDAR
