BEGIN:VCALENDAR
VERSION:2.0
PRODID:-//192.99.84.55//NONSGML kigkonsult.se iCalcreator 2.20//
CALSCALE:GREGORIAN
METHOD:PUBLISH
X-WR-TIMEZONE:UTC
BEGIN:VEVENT
UID:event137@Congreso 2017
DTSTAMP:20260420T235527Z
CATEGORIES:1. Geopolíticas del conocimiento y antropologías del sur\, Simpo
 sio: promovido por el comité académico del congreso. Geopolíticas del cono
 cimiento antropológic
DESCRIPTION:El Autoritarismo del Conocimiento Antropológico en Colombia\nCa
 tegoría: 1. Geopolíticas del conocimiento y antropologías del sur\, Simpos
 io: promovido por el comité académico del congreso. Geopolíticas del conoc
 imiento antropológic\nEnlace: https://www.asociacionlatinoamericanadeantro
 pologia.net/congreso2017/index.php?option=com_jem&view=event&id=137:el-aut
 oritarismo-del-conocimiento-antropologico-en-colombia\n
DTSTART:20170608T090000Z
DTEND:20170608T110000Z
LOCATION:Edificio: 67 Salón: 508\,Universidad Javeriana\,Bogotá
SUMMARY:El Autoritarismo del Conocimiento Antropológico en Colombia
URL:https://www.asociacionlatinoamericanadeantropologia.net/congreso2017/in
 dex.php?option=com_jem&view=event&id=137:el-autoritarismo-del-conocimiento
 -antropologico-en-colombia
END:VEVENT
END:VCALENDAR
