BEGIN:VCALENDAR
VERSION:2.0
PRODID:-//192.99.84.55//NONSGML kigkonsult.se iCalcreator 2.20//
CALSCALE:GREGORIAN
METHOD:PUBLISH
X-WR-TIMEZONE:UTC
BEGIN:VEVENT
UID:event135@Congreso 2017
DTSTAMP:20260420T235812Z
CATEGORIES:1. Geopolíticas del conocimiento y antropologías del sur\, Simpo
 sio: promovido por el comité académico del congreso. Geopolíticas del cono
 cimiento antropológic
DESCRIPTION:El entramado del saber antropológico local y la geopolítica del
  conocimiento\nCategoría: 1. Geopolíticas del conocimiento y antropologías
  del sur\, Simposio: promovido por el comité académico del congreso. Geopo
 líticas del conocimiento antropológic\nEnlace: https://www.asociacionlatin
 oamericanadeantropologia.net/congreso2017/index.php?option=com_jem&view=ev
 ent&id=135:el-entramado-del-saber-antropologico-local-y-la-geopolitica-del
 -conocimiento\n
DTSTART:20170608T090000Z
DTEND:20170608T110000Z
LOCATION:Edificio: 67 Salón: 508\,Universidad Javeriana\,Bogotá
SUMMARY:El entramado del saber antropológico local y la geopolítica del con
 ocimiento
URL:https://www.asociacionlatinoamericanadeantropologia.net/congreso2017/in
 dex.php?option=com_jem&view=event&id=135:el-entramado-del-saber-antropolog
 ico-local-y-la-geopolitica-del-conocimiento
END:VEVENT
END:VCALENDAR
