BEGIN:VCALENDAR
VERSION:2.0
PRODID:-//192.99.84.55//NONSGML kigkonsult.se iCalcreator 2.20//
CALSCALE:GREGORIAN
METHOD:PUBLISH
X-WR-TIMEZONE:UTC
BEGIN:VEVENT
UID:event134@Congreso 2017
DTSTAMP:20260420T235403Z
CATEGORIES:1. Geopolíticas del conocimiento y antropologías del sur\, Simpo
 sio: promovido por el comité académico del congreso. Geopolíticas del cono
 cimiento antropológic
DESCRIPTION:Una mirada desde Panamá a la geopolítica del conocimiento en An
 tropología \nCategoría: 1. Geopolíticas del conocimiento y antropologías d
 el sur\, Simposio: promovido por el comité académico del congreso. Geopolí
 ticas del conocimiento antropológic\nEnlace: https://www.asociacionlatinoa
 mericanadeantropologia.net/congreso2017/index.php?option=com_jem&view=even
 t&id=134:una-mirada-desde-panama-a-la-geopolitica-del-conocimiento-en-antr
 opologia\n
DTSTART:20170608T090000Z
DTEND:20170608T110000Z
LOCATION:Edificio: 67 Salón: 508\,Universidad Javeriana\,Bogotá
SUMMARY:Una mirada desde Panamá a la geopolítica del conocimiento en Antrop
 ología 
URL:https://www.asociacionlatinoamericanadeantropologia.net/congreso2017/in
 dex.php?option=com_jem&view=event&id=134:una-mirada-desde-panama-a-la-geop
 olitica-del-conocimiento-en-antropologia
END:VEVENT
END:VCALENDAR
