BEGIN:VCALENDAR
VERSION:2.0
PRODID:-//192.99.84.55//NONSGML kigkonsult.se iCalcreator 2.20//
CALSCALE:GREGORIAN
METHOD:PUBLISH
X-WR-TIMEZONE:UTC
BEGIN:VEVENT
UID:event1335@Congreso 2017
DTSTAMP:20260421T033338Z
CATEGORIES:14. Políticas de la salud\, el bienestar y la enfermedad \, Simp
 osio: Salud y Sociedad
DESCRIPTION:Transnacionalismo\, importações e adaptações da cura na Umbanda
 :  Medicinas afro-brasileiras em território portugués\nCategoría: 14. Polí
 ticas de la salud\, el bienestar y la enfermedad \, Simposio: Salud y Soci
 edad\nEnlace: https://www.asociacionlatinoamericanadeantropologia.net/cong
 reso2017/index.php?option=com_jem&view=event&id=1335:transnacionalismo-imp
 ortacoes-e-adaptacoes-da-cura-na-umbanda-medicinas-afro-brasileiras-em-ter
 ritorio-portugues\n
DTSTART:20170607T090000Z
DTEND:20170607T110000Z
LOCATION:Edificio: 02 Salón: 407\,Universidad Javeriana\,Bogotá
SUMMARY:Transnacionalismo\, importações e adaptações da cura na Umbanda:  M
 edicinas afro-brasileiras em território portugués
URL:https://www.asociacionlatinoamericanadeantropologia.net/congreso2017/in
 dex.php?option=com_jem&view=event&id=1335:transnacionalismo-importacoes-e-
 adaptacoes-da-cura-na-umbanda-medicinas-afro-brasileiras-em-territorio-por
 tugues
END:VEVENT
END:VCALENDAR
