BEGIN:VCALENDAR
VERSION:2.0
PRODID:-//192.99.84.55//NONSGML kigkonsult.se iCalcreator 2.20//
CALSCALE:GREGORIAN
METHOD:PUBLISH
X-WR-TIMEZONE:UTC
BEGIN:VEVENT
UID:event1334@Congreso 2017
DTSTAMP:20260421T033242Z
CATEGORIES:14. Políticas de la salud\, el bienestar y la enfermedad \, Simp
 osio: Salud y Sociedad
DESCRIPTION:Fenômeno do 'paciente informado': o acesso aos conteúdos de saú
 de disponíveis na web e as reconfigurações nas relações entre profissionai
 s de saúde e usuários\nCategoría: 14. Políticas de la salud\, el bienestar
  y la enfermedad \, Simposio: Salud y Sociedad\nEnlace: https://www.asocia
 cionlatinoamericanadeantropologia.net/congreso2017/index.php?option=com_je
 m&view=event&id=1334:fenomeno-do-paciente-informado-o-acesso-aos-conteudos
 -de-saude-disponiveis-na-web-e-as-reconfiguracoes-nas-relacoes-entre-profi
 ssionais-de-saude-e-usuarios\n
DTSTART:20170607T090000Z
DTEND:20170607T110000Z
LOCATION:Edificio: 02 Salón: 407\,Universidad Javeriana\,Bogotá
SUMMARY:Fenômeno do 'paciente informado': o acesso aos conteúdos de saúde d
 isponíveis na web e as reconfigurações nas relações entre profissionais de
  saúde e usuários
URL:https://www.asociacionlatinoamericanadeantropologia.net/congreso2017/in
 dex.php?option=com_jem&view=event&id=1334:fenomeno-do-paciente-informado-o
 -acesso-aos-conteudos-de-saude-disponiveis-na-web-e-as-reconfiguracoes-nas
 -relacoes-entre-profissionais-de-saude-e-usuarios
END:VEVENT
END:VCALENDAR
