BEGIN:VCALENDAR
VERSION:2.0
PRODID:-//192.99.84.55//NONSGML kigkonsult.se iCalcreator 2.20//
CALSCALE:GREGORIAN
METHOD:PUBLISH
X-WR-TIMEZONE:UTC
BEGIN:VEVENT
UID:event1333@Congreso 2017
DTSTAMP:20260421T033440Z
CATEGORIES:14. Políticas de la salud\, el bienestar y la enfermedad \, Simp
 osio: Salud y Sociedad
DESCRIPTION:Configurando realidades médicas en el altiplano cundiboyacense 
 desde las apropiaciones indígenas de leyes\, decretos y normas \nCategoría
 : 14. Políticas de la salud\, el bienestar y la enfermedad \, Simposio: Sa
 lud y Sociedad\nEnlace: https://www.asociacionlatinoamericanadeantropologi
 a.net/congreso2017/index.php?option=com_jem&view=event&id=1333:configurand
 o-realidades-medicas-en-el-altiplano-cundiboyacense-desde-las-apropiacione
 s-indigenas-de-leyes-decretos-y-normas\n
DTSTART:20170607T090000Z
DTEND:20170607T110000Z
LOCATION:Edificio: 02 Salón: 407\,Universidad Javeriana\,Bogotá
SUMMARY:Configurando realidades médicas en el altiplano cundiboyacense desd
 e las apropiaciones indígenas de leyes\, decretos y normas 
URL:https://www.asociacionlatinoamericanadeantropologia.net/congreso2017/in
 dex.php?option=com_jem&view=event&id=1333:configurando-realidades-medicas-
 en-el-altiplano-cundiboyacense-desde-las-apropiaciones-indigenas-de-leyes-
 decretos-y-normas
END:VEVENT
END:VCALENDAR
