BEGIN:VCALENDAR
VERSION:2.0
PRODID:-//192.99.84.55//NONSGML kigkonsult.se iCalcreator 2.20//
CALSCALE:GREGORIAN
METHOD:PUBLISH
X-WR-TIMEZONE:UTC
BEGIN:VEVENT
UID:event1332@Congreso 2017
DTSTAMP:20260421T034128Z
CATEGORIES:14. Políticas de la salud\, el bienestar y la enfermedad \, Simp
 osio: Salud y Sociedad
DESCRIPTION:Corporalidad y discapacidad cognitiva: una aproximación socioló
 gica al cuerpo discapacitado\nCategoría: 14. Políticas de la salud\, el bi
 enestar y la enfermedad \, Simposio: Salud y Sociedad\nEnlace: https://www
 .asociacionlatinoamericanadeantropologia.net/congreso2017/index.php?option
 =com_jem&view=event&id=1332:corporalidad-y-discapacidad-cognitiva-una-apro
 ximacion-sociologica-al-cuerpo-discapacitado\n
DTSTART:20170607T090000Z
DTEND:20170607T110000Z
LOCATION:Edificio: 02 Salón: 407\,Universidad Javeriana\,Bogotá
SUMMARY:Corporalidad y discapacidad cognitiva: una aproximación sociológica
  al cuerpo discapacitado
URL:https://www.asociacionlatinoamericanadeantropologia.net/congreso2017/in
 dex.php?option=com_jem&view=event&id=1332:corporalidad-y-discapacidad-cogn
 itiva-una-aproximacion-sociologica-al-cuerpo-discapacitado
END:VEVENT
END:VCALENDAR
