BEGIN:VCALENDAR
VERSION:2.0
PRODID:-//192.99.84.55//NONSGML kigkonsult.se iCalcreator 2.20//
CALSCALE:GREGORIAN
METHOD:PUBLISH
X-WR-TIMEZONE:UTC
BEGIN:VEVENT
UID:event1331@Congreso 2017
DTSTAMP:20260421T034303Z
CATEGORIES:14. Políticas de la salud\, el bienestar y la enfermedad \, Simp
 osio: Salud y Sociedad
DESCRIPTION:Políticas públicas en los procesos de atención al VIH y la salu
 d sexual y reproductiva en mujeres embarazadas con VIH \nCategoría: 14. Po
 líticas de la salud\, el bienestar y la enfermedad \, Simposio: Salud y So
 ciedad\nEnlace: https://www.asociacionlatinoamericanadeantropologia.net/co
 ngreso2017/index.php?option=com_jem&view=event&id=1331:politicas-publicas-
 en-los-procesos-de-atencion-al-vih-y-la-salud-sexual-y-reproductiva-en-muj
 eres-embarazadas-con-vih\n
DTSTART:20170606T160000Z
DTEND:20170606T180000Z
LOCATION:Edificio: 02 Salón: 407\,Universidad Javeriana\,Bogotá
SUMMARY:Políticas públicas en los procesos de atención al VIH y la salud se
 xual y reproductiva en mujeres embarazadas con VIH 
URL:https://www.asociacionlatinoamericanadeantropologia.net/congreso2017/in
 dex.php?option=com_jem&view=event&id=1331:politicas-publicas-en-los-proces
 os-de-atencion-al-vih-y-la-salud-sexual-y-reproductiva-en-mujeres-embaraza
 das-con-vih
END:VEVENT
END:VCALENDAR
