BEGIN:VCALENDAR
VERSION:2.0
PRODID:-//192.99.84.55//NONSGML kigkonsult.se iCalcreator 2.20//
CALSCALE:GREGORIAN
METHOD:PUBLISH
X-WR-TIMEZONE:UTC
BEGIN:VEVENT
UID:event1330@Congreso 2017
DTSTAMP:20260421T034220Z
CATEGORIES:14. Políticas de la salud\, el bienestar y la enfermedad \, Simp
 osio: Salud y Sociedad
DESCRIPTION:Salud sexual y Reproductiva de las mujeres adolescentes de las 
 comunidades de San José\, Tunzará y Veneros del Resguardo Indígena de San 
 Lorenzo\, Riosucio\, Caldas. \nCategoría: 14. Políticas de la salud\, el b
 ienestar y la enfermedad \, Simposio: Salud y Sociedad\nEnlace: https://ww
 w.asociacionlatinoamericanadeantropologia.net/congreso2017/index.php?optio
 n=com_jem&view=event&id=1330:salud-sexual-y-reproductiva-de-las-mujeres-ad
 olescentes-de-las-comunidades-de-san-jose-tunzara-y-veneros-del-resguardo-
 indigena-de-san-lorenzo-riosucio-caldas\n
DTSTART:20170606T160000Z
DTEND:20170606T180000Z
LOCATION:Edificio: 02 Salón: 407\,Universidad Javeriana\,Bogotá
SUMMARY:Salud sexual y Reproductiva de las mujeres adolescentes de las comu
 nidades de San José\, Tunzará y Veneros del Resguardo Indígena de San Lore
 nzo\, Riosucio\, Caldas. 
URL:https://www.asociacionlatinoamericanadeantropologia.net/congreso2017/in
 dex.php?option=com_jem&view=event&id=1330:salud-sexual-y-reproductiva-de-l
 as-mujeres-adolescentes-de-las-comunidades-de-san-jose-tunzara-y-veneros-d
 el-resguardo-indigena-de-san-lorenzo-riosucio-caldas
END:VEVENT
END:VCALENDAR
