BEGIN:VCALENDAR
VERSION:2.0
PRODID:-//192.99.84.55//NONSGML kigkonsult.se iCalcreator 2.20//
CALSCALE:GREGORIAN
METHOD:PUBLISH
X-WR-TIMEZONE:UTC
BEGIN:VEVENT
UID:event1326@Congreso 2017
DTSTAMP:20260421T033129Z
CATEGORIES:14. Políticas de la salud\, el bienestar y la enfermedad \, Simp
 osio: Salud y Sociedad
DESCRIPTION:Mística\, dialogo de saberes\, yerbas santas y solidaridad: Mem
 oria del cuidado no médico de la lepra en Agua de Dios\nCategoría: 14. Pol
 íticas de la salud\, el bienestar y la enfermedad \, Simposio: Salud y Soc
 iedad\nEnlace: https://www.asociacionlatinoamericanadeantropologia.net/con
 greso2017/index.php?option=com_jem&view=event&id=1326:mistica-dialogo-de-s
 aberes-yerbas-santas-y-solidaridad-memoria-del-cuidado-no-medico-de-la-lep
 ra-en-agua-de-dios\n
DTSTART:20170606T140000Z
DTEND:20170606T160000Z
LOCATION:Edificio: 02 Salón: 407\,Universidad Javeriana\,Bogotá
SUMMARY:Mística\, dialogo de saberes\, yerbas santas y solidaridad: Memoria
  del cuidado no médico de la lepra en Agua de Dios
URL:https://www.asociacionlatinoamericanadeantropologia.net/congreso2017/in
 dex.php?option=com_jem&view=event&id=1326:mistica-dialogo-de-saberes-yerba
 s-santas-y-solidaridad-memoria-del-cuidado-no-medico-de-la-lepra-en-agua-d
 e-dios
END:VEVENT
END:VCALENDAR
