BEGIN:VCALENDAR
VERSION:2.0
PRODID:-//192.99.84.55//NONSGML kigkonsult.se iCalcreator 2.20//
CALSCALE:GREGORIAN
METHOD:PUBLISH
X-WR-TIMEZONE:UTC
BEGIN:VEVENT
UID:event1325@Congreso 2017
DTSTAMP:20260421T034204Z
CATEGORIES:14. Políticas de la salud\, el bienestar y la enfermedad \, Simp
 osio: Salud y Sociedad
DESCRIPTION:Configuraciones del mundo del trabajo en enfermería: reformas d
 el estado y su impacto en el empleo (2000-2006)\nCategoría: 14. Políticas 
 de la salud\, el bienestar y la enfermedad \, Simposio: Salud y Sociedad\n
 Enlace: https://www.asociacionlatinoamericanadeantropologia.net/congreso20
 17/index.php?option=com_jem&view=event&id=1325:configuraciones-del-mundo-d
 el-trabajo-en-enfermeria-reformas-del-estado-y-su-impacto-en-el-empleo-200
 0-2006\n
DTSTART:20170606T140000Z
DTEND:20170606T160000Z
LOCATION:Edificio: 02 Salón: 407\,Universidad Javeriana\,Bogotá
SUMMARY:Configuraciones del mundo del trabajo en enfermería: reformas del e
 stado y su impacto en el empleo (2000-2006)
URL:https://www.asociacionlatinoamericanadeantropologia.net/congreso2017/in
 dex.php?option=com_jem&view=event&id=1325:configuraciones-del-mundo-del-tr
 abajo-en-enfermeria-reformas-del-estado-y-su-impacto-en-el-empleo-2000-200
 6
END:VEVENT
END:VCALENDAR
