BEGIN:VCALENDAR
VERSION:2.0
PRODID:-//192.99.84.55//NONSGML kigkonsult.se iCalcreator 2.20//
CALSCALE:GREGORIAN
METHOD:PUBLISH
X-WR-TIMEZONE:UTC
BEGIN:VEVENT
UID:event1324@Congreso 2017
DTSTAMP:20260421T033130Z
CATEGORIES:14. Políticas de la salud\, el bienestar y la enfermedad \, Simp
 osio: Salud y Sociedad
DESCRIPTION:Influencia del género en la práctica regular de actividad físic
 a en Santander\, Colombia\nCategoría: 14. Políticas de la salud\, el biene
 star y la enfermedad \, Simposio: Salud y Sociedad\nEnlace: https://www.as
 ociacionlatinoamericanadeantropologia.net/congreso2017/index.php?option=co
 m_jem&view=event&id=1324:influencia-del-genero-en-la-practica-regular-de-a
 ctividad-fisica-en-santander-colombia\n
DTSTART:20170606T140000Z
DTEND:20170606T160000Z
LOCATION:Edificio: 02 Salón: 407\,Universidad Javeriana\,Bogotá
SUMMARY:Influencia del género en la práctica regular de actividad física en
  Santander\, Colombia
URL:https://www.asociacionlatinoamericanadeantropologia.net/congreso2017/in
 dex.php?option=com_jem&view=event&id=1324:influencia-del-genero-en-la-prac
 tica-regular-de-actividad-fisica-en-santander-colombia
END:VEVENT
END:VCALENDAR
