BEGIN:VCALENDAR
VERSION:2.0
PRODID:-//192.99.84.55//NONSGML kigkonsult.se iCalcreator 2.20//
CALSCALE:GREGORIAN
METHOD:PUBLISH
X-WR-TIMEZONE:UTC
BEGIN:VEVENT
UID:event130@Congreso 2017
DTSTAMP:20260420T235514Z
CATEGORIES:1. Geopolíticas del conocimiento y antropologías del sur\, Simpo
 sio: promovido por el comité académico del congreso. Geopolíticas del cono
 cimiento antropológic
DESCRIPTION:Sistema de indexación y de clasificación científica como un mod
 elo de alienación disciplinaria para América Latina\nCategoría: 1. Geopolí
 ticas del conocimiento y antropologías del sur\, Simposio: promovido por e
 l comité académico del congreso. Geopolíticas del conocimiento antropológi
 c\nEnlace: https://www.asociacionlatinoamericanadeantropologia.net/congres
 o2017/index.php?option=com_jem&view=event&id=130:sistema-de-indexacion-y-d
 e-clasificacion-cientifica-como-un-modelo-de-alienacion-disciplinaria-para
 -america-latina\n
DTSTART:20170608T090000Z
DTEND:20170608T110000Z
LOCATION:Edificio: 67 Salón: 508\,Universidad Javeriana\,Bogotá
SUMMARY:Sistema de indexación y de clasificación científica como un modelo 
 de alienación disciplinaria para América Latina
URL:https://www.asociacionlatinoamericanadeantropologia.net/congreso2017/in
 dex.php?option=com_jem&view=event&id=130:sistema-de-indexacion-y-de-clasif
 icacion-cientifica-como-un-modelo-de-alienacion-disciplinaria-para-america
 -latina
END:VEVENT
END:VCALENDAR
