BEGIN:VCALENDAR
VERSION:2.0
PRODID:-//192.99.84.55//NONSGML kigkonsult.se iCalcreator 2.20//
CALSCALE:GREGORIAN
METHOD:PUBLISH
X-WR-TIMEZONE:UTC
BEGIN:VEVENT
UID:event127@Congreso 2017
DTSTAMP:20260421T000023Z
CATEGORIES:1. Geopolíticas del conocimiento y antropologías del sur\, Simpo
 sio: Feminismos latinoamericanos y pueblos indígenas 
DESCRIPTION:Guardianas de la biodiversidad y de la vida. Participación polí
 tica y visiones de mujeres indígenas en el ámbito de la biodiversidad\nCat
 egoría: 1. Geopolíticas del conocimiento y antropologías del sur\, Simposi
 o: Feminismos latinoamericanos y pueblos indígenas \nEnlace: https://www.a
 sociacionlatinoamericanadeantropologia.net/congreso2017/index.php?option=c
 om_jem&view=event&id=127:guardianas-de-la-biodiversidad-y-de-la-vida-parti
 cipacion-politica-y-visiones-de-mujeres-indigenas-en-el-ambito-de-la-biodi
 versidad\n
DTSTART:20170608T110000Z
DTEND:20170608T130000Z
LOCATION:Edificio: 02 Salón: 207\,Universidad Javeriana\,Bogotá
SUMMARY:Guardianas de la biodiversidad y de la vida. Participación política
  y visiones de mujeres indígenas en el ámbito de la biodiversidad
URL:https://www.asociacionlatinoamericanadeantropologia.net/congreso2017/in
 dex.php?option=com_jem&view=event&id=127:guardianas-de-la-biodiversidad-y-
 de-la-vida-participacion-politica-y-visiones-de-mujeres-indigenas-en-el-am
 bito-de-la-biodiversidad
END:VEVENT
END:VCALENDAR
