BEGIN:VCALENDAR
VERSION:2.0
PRODID:-//192.99.84.55//NONSGML kigkonsult.se iCalcreator 2.20//
CALSCALE:GREGORIAN
METHOD:PUBLISH
X-WR-TIMEZONE:UTC
BEGIN:VEVENT
UID:event1238@Congreso 2017
DTSTAMP:20260421T050942Z
CATEGORIES:13. Emociones\, subjetividades e identidades\, Simposio: Sentido
 s y subjetividades en el trópico contemporáneo: revisitando sujetos etnogr
 áficos.
DESCRIPTION:Sorteando los enviones del mar. Incertidumbre\, movimiento y cr
 eación \nCategoría: 13. Emociones\, subjetividades e identidades\, Simposi
 o: Sentidos y subjetividades en el trópico contemporáneo: revisitando suje
 tos etnográficos.\nEnlace: https://www.asociacionlatinoamericanadeantropol
 ogia.net/congreso2017/index.php?option=com_jem&view=event&id=1238:sorteand
 o-los-enviones-del-mar-incertidumbre-movimiento-y-creacion\n
DTSTART:20170607T140000Z
DTEND:20170607T160000Z
LOCATION:Edificio: 67 Salón: 405\,Universidad Javeriana\,Bogotá
SUMMARY:Sorteando los enviones del mar. Incertidumbre\, movimiento y creaci
 ón 
URL:https://www.asociacionlatinoamericanadeantropologia.net/congreso2017/in
 dex.php?option=com_jem&view=event&id=1238:sorteando-los-enviones-del-mar-i
 ncertidumbre-movimiento-y-creacion
END:VEVENT
END:VCALENDAR
