BEGIN:VCALENDAR
VERSION:2.0
PRODID:-//192.99.84.55//NONSGML kigkonsult.se iCalcreator 2.20//
CALSCALE:GREGORIAN
METHOD:PUBLISH
X-WR-TIMEZONE:UTC
BEGIN:VEVENT
UID:event1227@Congreso 2017
DTSTAMP:20260421T032557Z
CATEGORIES:13. Emociones\, subjetividades e identidades\, Simposio: La infa
 ncia en la construcción social y cultural: el cuidado institucional del ni
 ño y la n
DESCRIPTION:Interés superior y agency del niño a prueba del “buen cuidado” 
 en la ayuda internacional (ejemplos de América latina y África) \nCategorí
 a: 13. Emociones\, subjetividades e identidades\, Simposio: La infancia en
  la construcción social y cultural: el cuidado institucional del niño y la
  n\nEnlace: https://www.asociacionlatinoamericanadeantropologia.net/congre
 so2017/index.php?option=com_jem&view=event&id=1227:interes-superior-y-agen
 cy-del-nino-a-prueba-del-buen-cuidado-en-la-ayuda-internacional-ejemplos-d
 e-america-latina-y-africa\n
DTSTART:20170608T110000Z
DTEND:20170608T130000Z
LOCATION:Edificio: 02 Salón: 206\,Universidad Javeriana\,Bogotá
SUMMARY:Interés superior y agency del niño a prueba del “buen cuidado” en l
 a ayuda internacional (ejemplos de América latina y África) 
URL:https://www.asociacionlatinoamericanadeantropologia.net/congreso2017/in
 dex.php?option=com_jem&view=event&id=1227:interes-superior-y-agency-del-ni
 no-a-prueba-del-buen-cuidado-en-la-ayuda-internacional-ejemplos-de-america
 -latina-y-africa
END:VEVENT
END:VCALENDAR
