BEGIN:VCALENDAR
VERSION:2.0
PRODID:-//192.99.84.55//NONSGML kigkonsult.se iCalcreator 2.20//
CALSCALE:GREGORIAN
METHOD:PUBLISH
X-WR-TIMEZONE:UTC
BEGIN:VEVENT
UID:event1205@Congreso 2017
DTSTAMP:20260421T032449Z
CATEGORIES:13. Emociones\, subjetividades e identidades\, Simposio: Identid
 ades y subjetividades en acción: identidad de género\, sexualidad y afecti
 vidad en e
DESCRIPTION:“Vayan\, pero no queremos gente que no haga nada”. Posiciones d
 el investigador y límites de la participación en encuentros BDSM.  \nCateg
 oría: 13. Emociones\, subjetividades e identidades\, Simposio: Identidades
  y subjetividades en acción: identidad de género\, sexualidad y afectivida
 d en e\nEnlace: https://www.asociacionlatinoamericanadeantropologia.net/co
 ngreso2017/index.php?option=com_jem&view=event&id=1205:vayan-pero-no-quere
 mos-gente-que-no-haga-nada-posiciones-del-investigador-y-limites-de-la-par
 ticipacion-en-encuentros-bdsm\n
DTSTART:20170609T090000Z
DTEND:20170609T110000Z
LOCATION:Edificio: 02 Salón: 404\,Universidad Javeriana\,Bogotá
SUMMARY:“Vayan\, pero no queremos gente que no haga nada”. Posiciones del i
 nvestigador y límites de la participación en encuentros BDSM.  
URL:https://www.asociacionlatinoamericanadeantropologia.net/congreso2017/in
 dex.php?option=com_jem&view=event&id=1205:vayan-pero-no-queremos-gente-que
 -no-haga-nada-posiciones-del-investigador-y-limites-de-la-participacion-en
 -encuentros-bdsm
END:VEVENT
END:VCALENDAR
