BEGIN:VCALENDAR
VERSION:2.0
PRODID:-//192.99.84.55//NONSGML kigkonsult.se iCalcreator 2.20//
CALSCALE:GREGORIAN
METHOD:PUBLISH
X-WR-TIMEZONE:UTC
BEGIN:VEVENT
UID:event1200@Congreso 2017
DTSTAMP:20260421T032044Z
CATEGORIES:13. Emociones\, subjetividades e identidades\, Simposio: Identid
 ades y subjetividades en acción: identidad de género\, sexualidad y afecti
 vidad en e
DESCRIPTION:La inconveniencia de usar barba: o de cómo lidiar con el ethos 
 del privilegio \nCategoría: 13. Emociones\, subjetividades e identidades\,
  Simposio: Identidades y subjetividades en acción: identidad de género\, s
 exualidad y afectividad en e\nEnlace: https://www.asociacionlatinoamerican
 adeantropologia.net/congreso2017/index.php?option=com_jem&view=event&id=12
 00:la-inconveniencia-de-usar-barba-o-de-como-lidiar-con-el-ethos-del-privi
 legio\n
DTSTART:20170608T160000Z
DTEND:20170608T180000Z
LOCATION:Edificio: 02 Salón: 404\,Universidad Javeriana\,Bogotá
SUMMARY:La inconveniencia de usar barba: o de cómo lidiar con el ethos del 
 privilegio 
URL:https://www.asociacionlatinoamericanadeantropologia.net/congreso2017/in
 dex.php?option=com_jem&view=event&id=1200:la-inconveniencia-de-usar-barba-
 o-de-como-lidiar-con-el-ethos-del-privilegio
END:VEVENT
END:VCALENDAR
