BEGIN:VCALENDAR
VERSION:2.0
PRODID:-//192.99.84.55//NONSGML kigkonsult.se iCalcreator 2.20//
CALSCALE:GREGORIAN
METHOD:PUBLISH
X-WR-TIMEZONE:UTC
BEGIN:VEVENT
UID:event1175@Congreso 2017
DTSTAMP:20260421T050941Z
CATEGORIES:13. Emociones\, subjetividades e identidades\, Simposio: Antropo
 logia das Emoções\, da Moralidade e dos Corpos
DESCRIPTION:La fiesta de San Juan en el pueblo de Tarmas\, estado Vargas (V
 enezuela) como integrador comunitario a través de su significación \nCateg
 oría: 13. Emociones\, subjetividades e identidades\, Simposio: Antropologi
 a das Emoções\, da Moralidade e dos Corpos\nEnlace: https://www.asociacion
 latinoamericanadeantropologia.net/congreso2017/index.php?option=com_jem&vi
 ew=event&id=1175:la-fiesta-de-san-juan-en-el-pueblo-de-tarmas-estado-varga
 s-venezuela-como-integrador-comunitario-a-traves-de-su-significacion\n
DTSTART:20170608T090000Z
DTEND:20170608T160000Z
LOCATION:Edificio: 02 Salón: 305\,Universidad Javeriana\,Bogotá
SUMMARY:La fiesta de San Juan en el pueblo de Tarmas\, estado Vargas (Venez
 uela) como integrador comunitario a través de su significación 
URL:https://www.asociacionlatinoamericanadeantropologia.net/congreso2017/in
 dex.php?option=com_jem&view=event&id=1175:la-fiesta-de-san-juan-en-el-pueb
 lo-de-tarmas-estado-vargas-venezuela-como-integrador-comunitario-a-traves-
 de-su-significacion
END:VEVENT
END:VCALENDAR
