BEGIN:VCALENDAR
VERSION:2.0
PRODID:-//192.99.84.55//NONSGML kigkonsult.se iCalcreator 2.20//
CALSCALE:GREGORIAN
METHOD:PUBLISH
X-WR-TIMEZONE:UTC
BEGIN:VEVENT
UID:event1161@Congreso 2017
DTSTAMP:20260421T033242Z
CATEGORIES:12. Cuerpo y corporalidades\, Simposio: Em[cena]açâo: corpos\, i
 dentidades e performances culturais
DESCRIPTION:Memoria\, fotografía e identidad. Los gays de los años setenta 
 en la ciudad de Oaxaca \nCategoría: 12. Cuerpo y corporalidades\, Simposio
 : Em[cena]açâo: corpos\, identidades e performances culturais\nEnlace: htt
 ps://www.asociacionlatinoamericanadeantropologia.net/congreso2017/index.ph
 p?option=com_jem&view=event&id=1161:memoria-fotografia-e-identidad-los-gay
 s-de-los-anos-setenta-en-la-ciudad-de-oaxaca\n
DTSTART:20170609T110000Z
DTEND:20170609T130000Z
LOCATION:Edificio: 67 Salón: 206\,Universidad Javeriana\,Bogotá
SUMMARY:Memoria\, fotografía e identidad. Los gays de los años setenta en l
 a ciudad de Oaxaca 
URL:https://www.asociacionlatinoamericanadeantropologia.net/congreso2017/in
 dex.php?option=com_jem&view=event&id=1161:memoria-fotografia-e-identidad-l
 os-gays-de-los-anos-setenta-en-la-ciudad-de-oaxaca
END:VEVENT
END:VCALENDAR
