BEGIN:VCALENDAR
VERSION:2.0
PRODID:-//192.99.84.55//NONSGML kigkonsult.se iCalcreator 2.20//
CALSCALE:GREGORIAN
METHOD:PUBLISH
X-WR-TIMEZONE:UTC
BEGIN:VEVENT
UID:event116@Congreso 2017
DTSTAMP:20260420T235700Z
CATEGORIES:1. Geopolíticas del conocimiento y antropologías del sur\, Simpo
 sio: Feminismos latinoamericanos y pueblos indígenas 
DESCRIPTION:“Voltear” el silencio y “soplar” el olvido: participación polít
 ica de las mujeres nasa del norte del Cauca\nCategoría: 1. Geopolíticas de
 l conocimiento y antropologías del sur\, Simposio: Feminismos latinoameric
 anos y pueblos indígenas \nEnlace: https://www.asociacionlatinoamericanade
 antropologia.net/congreso2017/index.php?option=com_jem&view=event&id=116:v
 oltear-el-silencio-y-soplar-el-olvido-participacion-politica-de-las-mujere
 s-nasa-del-norte-del-cauca\n
DTSTART:20170608T110000Z
DTEND:20170608T130000Z
LOCATION:Edificio: 02 Salón: 207\,Universidad Javeriana\,Bogotá
SUMMARY:“Voltear” el silencio y “soplar” el olvido: participación política 
 de las mujeres nasa del norte del Cauca
URL:https://www.asociacionlatinoamericanadeantropologia.net/congreso2017/in
 dex.php?option=com_jem&view=event&id=116:voltear-el-silencio-y-soplar-el-o
 lvido-participacion-politica-de-las-mujeres-nasa-del-norte-del-cauca
END:VEVENT
END:VCALENDAR
