BEGIN:VCALENDAR
VERSION:2.0
PRODID:-//192.99.84.55//NONSGML kigkonsult.se iCalcreator 2.20//
CALSCALE:GREGORIAN
METHOD:PUBLISH
X-WR-TIMEZONE:UTC
BEGIN:VEVENT
UID:event1159@Congreso 2017
DTSTAMP:20260421T034103Z
CATEGORIES:12. Cuerpo y corporalidades\, Simposio: Em[cena]açâo: corpos\, i
 dentidades e performances culturais
DESCRIPTION:Usos rituales\, representaciones simbólicas y narrativas de la 
 memoria de las cabezas humanas entre los Reche Mapuche indicadoras de cotr
 adicción\nCategoría: 12. Cuerpo y corporalidades\, Simposio: Em[cena]açâo:
  corpos\, identidades e performances culturais\nEnlace: https://www.asocia
 cionlatinoamericanadeantropologia.net/congreso2017/index.php?option=com_je
 m&view=event&id=1159:usos-rituales-representaciones-simbolicas-y-narrativa
 s-de-la-memoria-de-las-cabezas-humanas-entre-los-reche-mapuche-indicadoras
 -de-cotradiccion\n
DTSTART:20170609T090000Z
DTEND:20170609T110000Z
LOCATION:Edificio: 67 Salón: 206\,Universidad Javeriana\,Bogotá
SUMMARY:Usos rituales\, representaciones simbólicas y narrativas de la memo
 ria de las cabezas humanas entre los Reche Mapuche indicadoras de cotradic
 ción
URL:https://www.asociacionlatinoamericanadeantropologia.net/congreso2017/in
 dex.php?option=com_jem&view=event&id=1159:usos-rituales-representaciones-s
 imbolicas-y-narrativas-de-la-memoria-de-las-cabezas-humanas-entre-los-rech
 e-mapuche-indicadoras-de-cotradiccion
END:VEVENT
END:VCALENDAR
