BEGIN:VCALENDAR
VERSION:2.0
PRODID:-//192.99.84.55//NONSGML kigkonsult.se iCalcreator 2.20//
CALSCALE:GREGORIAN
METHOD:PUBLISH
X-WR-TIMEZONE:UTC
BEGIN:VEVENT
UID:event1155@Congreso 2017
DTSTAMP:20260421T034129Z
CATEGORIES:12. Cuerpo y corporalidades\, Simposio: Em[cena]açâo: corpos\, i
 dentidades e performances culturais
DESCRIPTION:La Identidad Visual en Mapuches Urbanos: La experiencia del Tal
 ler de Fotografía Indígena Azentún con jóvenes adolescentes de San Bernard
 o y Santiago \nCategoría: 12. Cuerpo y corporalidades\, Simposio: Em[cena]
 açâo: corpos\, identidades e performances culturais\nEnlace: https://www.a
 sociacionlatinoamericanadeantropologia.net/congreso2017/index.php?option=c
 om_jem&view=event&id=1155:la-identidad-visual-en-mapuches-urbanos-la-exper
 iencia-del-taller-de-fotografia-indigena-azentun-con-jovenes-adolescentes-
 de-san-bernardo-y-santiago\n
DTSTART:20170608T160000Z
DTEND:20170608T180000Z
LOCATION:Edificio: 67 Salón: 206\,Universidad Javeriana\,Bogotá
SUMMARY:La Identidad Visual en Mapuches Urbanos: La experiencia del Taller 
 de Fotografía Indígena Azentún con jóvenes adolescentes de San Bernardo y 
 Santiago 
URL:https://www.asociacionlatinoamericanadeantropologia.net/congreso2017/in
 dex.php?option=com_jem&view=event&id=1155:la-identidad-visual-en-mapuches-
 urbanos-la-experiencia-del-taller-de-fotografia-indigena-azentun-con-joven
 es-adolescentes-de-san-bernardo-y-santiago
END:VEVENT
END:VCALENDAR
