BEGIN:VCALENDAR
VERSION:2.0
PRODID:-//192.99.84.55//NONSGML kigkonsult.se iCalcreator 2.20//
CALSCALE:GREGORIAN
METHOD:PUBLISH
X-WR-TIMEZONE:UTC
BEGIN:VEVENT
UID:event109@Congreso 2017
DTSTAMP:20260420T235403Z
CATEGORIES:1. Geopolíticas del conocimiento y antropologías del sur\, Simpo
 sio: Feminismos latinoamericanos y pueblos indígenas 
DESCRIPTION:Feminismos\, géneros y mujeres indígenas en américa latina\nCat
 egoría: 1. Geopolíticas del conocimiento y antropologías del sur\, Simposi
 o: Feminismos latinoamericanos y pueblos indígenas \nEnlace: https://www.a
 sociacionlatinoamericanadeantropologia.net/congreso2017/index.php?option=c
 om_jem&view=event&id=109:feminismos-generos-y-mujeres-indigenas-en-america
 -latina\n
DTSTART:20170608T110000Z
DTEND:20170608T130000Z
LOCATION:Edificio: 02 Salón: 207\,Universidad Javeriana\,Bogotá
SUMMARY:Feminismos\, géneros y mujeres indígenas en américa latina
URL:https://www.asociacionlatinoamericanadeantropologia.net/congreso2017/in
 dex.php?option=com_jem&view=event&id=109:feminismos-generos-y-mujeres-indi
 genas-en-america-latina
END:VEVENT
END:VCALENDAR
