BEGIN:VCALENDAR
VERSION:2.0
PRODID:-//192.99.84.55//NONSGML kigkonsult.se iCalcreator 2.20//
CALSCALE:GREGORIAN
METHOD:PUBLISH
X-WR-TIMEZONE:UTC
BEGIN:VEVENT
UID:event1076@Congreso 2017
DTSTAMP:20260421T074631Z
CATEGORIES:11. Clase\, trabajo y desigualdades sociales\, Simposio: Pasado\
 , presente y futuro de la economía de l@s trabajador@s
DESCRIPTION:La economía del tiempo: para retomar las prácticas de la autoge
 stión obrera \nCategoría: 11. Clase\, trabajo y desigualdades sociales\, S
 imposio: Pasado\, presente y futuro de la economía de l@s trabajador@s\nEn
 lace: https://www.asociacionlatinoamericanadeantropologia.net/congreso2017
 /index.php?option=com_jem&view=event&id=1076:la-economia-del-tiempo-para-r
 etomar-las-practicas-de-la-autogestion-obrera\n
DTSTART:20170607T090000Z
DTEND:20170607T110000Z
LOCATION:Edificio: 02 Salón: 306\,Universidad Javeriana\,Bogotá
SUMMARY:La economía del tiempo: para retomar las prácticas de la autogestió
 n obrera 
URL:https://www.asociacionlatinoamericanadeantropologia.net/congreso2017/in
 dex.php?option=com_jem&view=event&id=1076:la-economia-del-tiempo-para-reto
 mar-las-practicas-de-la-autogestion-obrera
END:VEVENT
END:VCALENDAR
