BEGIN:VCALENDAR
VERSION:2.0
PRODID:-//192.99.84.55//NONSGML kigkonsult.se iCalcreator 2.20//
CALSCALE:GREGORIAN
METHOD:PUBLISH
X-WR-TIMEZONE:UTC
BEGIN:VEVENT
UID:event1075@Congreso 2017
DTSTAMP:20260421T075532Z
CATEGORIES:11. Clase\, trabajo y desigualdades sociales\, Simposio: Pasado\
 , presente y futuro de la economía de l@s trabajador@s
DESCRIPTION:El Caribe Neoliberal: Retos para la organización obrera y la co
 ntención neoliberal en los pueblos isleños\, no soberanos del Caribe\nCate
 goría: 11. Clase\, trabajo y desigualdades sociales\, Simposio: Pasado\, p
 resente y futuro de la economía de l@s trabajador@s\nEnlace: https://www.a
 sociacionlatinoamericanadeantropologia.net/congreso2017/index.php?option=c
 om_jem&view=event&id=1075:el-caribe-neoliberal-retos-para-la-organizacion-
 obrera-y-la-contencion-neoliberal-en-los-pueblos-islenos-no-soberanos-del-
 caribe\n
DTSTART:20170607T090000Z
DTEND:20170607T110000Z
LOCATION:Edificio: 02 Salón: 306\,Universidad Javeriana\,Bogotá
SUMMARY:El Caribe Neoliberal: Retos para la organización obrera y la conten
 ción neoliberal en los pueblos isleños\, no soberanos del Caribe
URL:https://www.asociacionlatinoamericanadeantropologia.net/congreso2017/in
 dex.php?option=com_jem&view=event&id=1075:el-caribe-neoliberal-retos-para-
 la-organizacion-obrera-y-la-contencion-neoliberal-en-los-pueblos-islenos-n
 o-soberanos-del-caribe
END:VEVENT
END:VCALENDAR
