BEGIN:VCALENDAR
VERSION:2.0
PRODID:-//192.99.84.55//NONSGML kigkonsult.se iCalcreator 2.20//
CALSCALE:GREGORIAN
METHOD:PUBLISH
X-WR-TIMEZONE:UTC
BEGIN:VEVENT
UID:event1074@Congreso 2017
DTSTAMP:20260421T073622Z
CATEGORIES:11. Clase\, trabajo y desigualdades sociales\, Simposio: Pasado\
 , presente y futuro de la economía de l@s trabajador@s
DESCRIPTION:A reinvenção do local frente à globalização \nCategoría: 11. Cl
 ase\, trabajo y desigualdades sociales\, Simposio: Pasado\, presente y fut
 uro de la economía de l@s trabajador@s\nEnlace: https://www.asociacionlati
 noamericanadeantropologia.net/congreso2017/index.php?option=com_jem&view=e
 vent&id=1074:a-reinvencao-do-local-frente-a-globalizacao\n
DTSTART:20170607T090000Z
DTEND:20170607T110000Z
LOCATION:Edificio: 02 Salón: 306\,Universidad Javeriana\,Bogotá
SUMMARY:A reinvenção do local frente à globalização 
URL:https://www.asociacionlatinoamericanadeantropologia.net/congreso2017/in
 dex.php?option=com_jem&view=event&id=1074:a-reinvencao-do-local-frente-a-g
 lobalizacao
END:VEVENT
END:VCALENDAR
