BEGIN:VCALENDAR
VERSION:2.0
PRODID:-//192.99.84.55//NONSGML kigkonsult.se iCalcreator 2.20//
CALSCALE:GREGORIAN
METHOD:PUBLISH
X-WR-TIMEZONE:UTC
BEGIN:VEVENT
UID:event1073@Congreso 2017
DTSTAMP:20260421T075452Z
CATEGORIES:11. Clase\, trabajo y desigualdades sociales\, Simposio: Pasado\
 , presente y futuro de la economía de l@s trabajador@s
DESCRIPTION:Cooperativas de Trabajadores y su futuro como generador/creador
  de un nuevo movimiento laboral en los Estados Unidos\nCategoría: 11. Clas
 e\, trabajo y desigualdades sociales\, Simposio: Pasado\, presente y futur
 o de la economía de l@s trabajador@s\nEnlace: https://www.asociacionlatino
 americanadeantropologia.net/congreso2017/index.php?option=com_jem&view=eve
 nt&id=1073:cooperativas-de-trabajadores-y-su-futuro-como-generador-creador
 -de-un-nuevo-movimiento-laboral-en-los-estados-unidos\n
DTSTART:20170607T090000Z
DTEND:20170607T110000Z
LOCATION:Edificio: 02 Salón: 306\,Universidad Javeriana\,Bogotá
SUMMARY:Cooperativas de Trabajadores y su futuro como generador/creador de 
 un nuevo movimiento laboral en los Estados Unidos
URL:https://www.asociacionlatinoamericanadeantropologia.net/congreso2017/in
 dex.php?option=com_jem&view=event&id=1073:cooperativas-de-trabajadores-y-s
 u-futuro-como-generador-creador-de-un-nuevo-movimiento-laboral-en-los-esta
 dos-unidos
END:VEVENT
END:VCALENDAR
