BEGIN:VCALENDAR
VERSION:2.0
PRODID:-//192.99.84.55//NONSGML kigkonsult.se iCalcreator 2.20//
CALSCALE:GREGORIAN
METHOD:PUBLISH
X-WR-TIMEZONE:UTC
BEGIN:VEVENT
UID:event1072@Congreso 2017
DTSTAMP:20260421T074610Z
CATEGORIES:11. Clase\, trabajo y desigualdades sociales\, Simposio: Pasado\
 , presente y futuro de la economía de l@s trabajador@s
DESCRIPTION:Resistencia en tiempos de neoliberalismo: Movimientos sociales 
 de derechos humanos en República Dominicana\nCategoría: 11. Clase\, trabaj
 o y desigualdades sociales\, Simposio: Pasado\, presente y futuro de la ec
 onomía de l@s trabajador@s\nEnlace: https://www.asociacionlatinoamericanad
 eantropologia.net/congreso2017/index.php?option=com_jem&view=event&id=1072
 :resistencia-en-tiempos-de-neoliberalismo-movimientos-sociales-de-derechos
 -humanos-en-republica-dominicana\n
DTSTART:20170606T160000Z
DTEND:20170606T180000Z
LOCATION:Edificio: 02 Salón: 306\,Universidad Javeriana\,Bogotá
SUMMARY:Resistencia en tiempos de neoliberalismo: Movimientos sociales de d
 erechos humanos en República Dominicana
URL:https://www.asociacionlatinoamericanadeantropologia.net/congreso2017/in
 dex.php?option=com_jem&view=event&id=1072:resistencia-en-tiempos-de-neolib
 eralismo-movimientos-sociales-de-derechos-humanos-en-republica-dominicana
END:VEVENT
END:VCALENDAR
