BEGIN:VCALENDAR
VERSION:2.0
PRODID:-//192.99.84.55//NONSGML kigkonsult.se iCalcreator 2.20//
CALSCALE:GREGORIAN
METHOD:PUBLISH
X-WR-TIMEZONE:UTC
BEGIN:VEVENT
UID:event1071@Congreso 2017
DTSTAMP:20260421T075101Z
CATEGORIES:11. Clase\, trabajo y desigualdades sociales\, Simposio: Pasado\
 , presente y futuro de la economía de l@s trabajador@s
DESCRIPTION:Mercancía humana y resistencia en la economía del tabaco  \nCat
 egoría: 11. Clase\, trabajo y desigualdades sociales\, Simposio: Pasado\, 
 presente y futuro de la economía de l@s trabajador@s\nEnlace: https://www.
 asociacionlatinoamericanadeantropologia.net/congreso2017/index.php?option=
 com_jem&view=event&id=1071:mercancia-humana-y-resistencia-en-la-economia-d
 el-tabaco\n
DTSTART:20170606T160000Z
DTEND:20170606T180000Z
LOCATION:Edificio: 02 Salón: 306\,Universidad Javeriana\,Bogotá
SUMMARY:Mercancía humana y resistencia en la economía del tabaco  
URL:https://www.asociacionlatinoamericanadeantropologia.net/congreso2017/in
 dex.php?option=com_jem&view=event&id=1071:mercancia-humana-y-resistencia-e
 n-la-economia-del-tabaco
END:VEVENT
END:VCALENDAR
