BEGIN:VCALENDAR
VERSION:2.0
PRODID:-//192.99.84.55//NONSGML kigkonsult.se iCalcreator 2.20//
CALSCALE:GREGORIAN
METHOD:PUBLISH
X-WR-TIMEZONE:UTC
BEGIN:VEVENT
UID:event1070@Congreso 2017
DTSTAMP:20260421T075035Z
CATEGORIES:11. Clase\, trabajo y desigualdades sociales\, Simposio: Pasado\
 , presente y futuro de la economía de l@s trabajador@s
DESCRIPTION:Los Recicladores como Arqueólogos Urbanos: Aproximaciones Epist
 emológicas al Reciclaje en Bogotá \nCategoría: 11. Clase\, trabajo y desig
 ualdades sociales\, Simposio: Pasado\, presente y futuro de la economía de
  l@s trabajador@s\nEnlace: https://www.asociacionlatinoamericanadeantropol
 ogia.net/congreso2017/index.php?option=com_jem&view=event&id=1070:los-reci
 cladores-como-arqueologos-urbanos-aproximaciones-epistemologicas-al-recicl
 aje-en-bogota\n
DTSTART:20170606T160000Z
DTEND:20170606T180000Z
LOCATION:Edificio: 02 Salón: 306\,Universidad Javeriana\,Bogotá
SUMMARY:Los Recicladores como Arqueólogos Urbanos: Aproximaciones Epistemol
 ógicas al Reciclaje en Bogotá 
URL:https://www.asociacionlatinoamericanadeantropologia.net/congreso2017/in
 dex.php?option=com_jem&view=event&id=1070:los-recicladores-como-arqueologo
 s-urbanos-aproximaciones-epistemologicas-al-reciclaje-en-bogota
END:VEVENT
END:VCALENDAR
