BEGIN:VCALENDAR
VERSION:2.0
PRODID:-//192.99.84.55//NONSGML kigkonsult.se iCalcreator 2.20//
CALSCALE:GREGORIAN
METHOD:PUBLISH
X-WR-TIMEZONE:UTC
BEGIN:VEVENT
UID:event1069@Congreso 2017
DTSTAMP:20260421T074800Z
CATEGORIES:11. Clase\, trabajo y desigualdades sociales\, Simposio: Pasado\
 , presente y futuro de la economía de l@s trabajador@s
DESCRIPTION:La conformación de la Sociedad Cooperativa Trabajadores de Pasc
 ual: reestructuración del trabajo y apropiación tecnológica \nCategoría: 1
 1. Clase\, trabajo y desigualdades sociales\, Simposio: Pasado\, presente 
 y futuro de la economía de l@s trabajador@s\nEnlace: https://www.asociacio
 nlatinoamericanadeantropologia.net/congreso2017/index.php?option=com_jem&v
 iew=event&id=1069:la-conformacion-de-la-sociedad-cooperativa-trabajadores-
 de-pascual-reestructuracion-del-trabajo-y-apropiacion-tecnologica\n
DTSTART:20170606T160000Z
DTEND:20170606T180000Z
LOCATION:Edificio: 02 Salón: 306\,Universidad Javeriana\,Bogotá
SUMMARY:La conformación de la Sociedad Cooperativa Trabajadores de Pascual:
  reestructuración del trabajo y apropiación tecnológica 
URL:https://www.asociacionlatinoamericanadeantropologia.net/congreso2017/in
 dex.php?option=com_jem&view=event&id=1069:la-conformacion-de-la-sociedad-c
 ooperativa-trabajadores-de-pascual-reestructuracion-del-trabajo-y-apropiac
 ion-tecnologica
END:VEVENT
END:VCALENDAR
