BEGIN:VCALENDAR
VERSION:2.0
PRODID:-//192.99.84.55//NONSGML kigkonsult.se iCalcreator 2.20//
CALSCALE:GREGORIAN
METHOD:PUBLISH
X-WR-TIMEZONE:UTC
BEGIN:VEVENT
UID:event1038@Congreso 2017
DTSTAMP:20260421T033119Z
CATEGORIES:10. Violencia\, guerra y transiciones\, Simposio: Violência e pe
 rseguições religiosas no contexto: brasileiro
DESCRIPTION:Estado Nacional vs Movimentos sociais: novas formas de entendim
 ento e de narrativas acerca da intolerância religiosa no Brasil \nCategorí
 a: 10. Violencia\, guerra y transiciones\, Simposio: Violência e perseguiç
 ões religiosas no contexto: brasileiro\nEnlace: https://www.asociacionlati
 noamericanadeantropologia.net/congreso2017/index.php?option=com_jem&view=e
 vent&id=1038:estado-nacional-vs-movimentos-sociais-novas-formas-de-entendi
 mento-e-de-narrativas-acerca-da-intolerancia-religiosa-no-brasil\n
DTSTART:20170609T090000Z
DTEND:20170609T110000Z
LOCATION:Edificio: 02 Salón: 203\,Universidad Javeriana\,Bogotá
SUMMARY:Estado Nacional vs Movimentos sociais: novas formas de entendimento
  e de narrativas acerca da intolerância religiosa no Brasil 
URL:https://www.asociacionlatinoamericanadeantropologia.net/congreso2017/in
 dex.php?option=com_jem&view=event&id=1038:estado-nacional-vs-movimentos-so
 ciais-novas-formas-de-entendimento-e-de-narrativas-acerca-da-intolerancia-
 religiosa-no-brasil
END:VEVENT
END:VCALENDAR
