BEGIN:VCALENDAR
VERSION:2.0
PRODID:-//192.99.84.55//NONSGML kigkonsult.se iCalcreator 2.20//
CALSCALE:GREGORIAN
METHOD:PUBLISH
X-WR-TIMEZONE:UTC
BEGIN:VEVENT
UID:event1036@Congreso 2017
DTSTAMP:20260421T033119Z
CATEGORIES:10. Violencia\, guerra y transiciones\, Simposio: Violência e pe
 rseguições religiosas no contexto: brasileiro
DESCRIPTION:Agentes da Sedição Premeditada”: malês\, cultura escrava\, repr
 essão e resistência na Comarca de Alagoas\, 1815 \nCategoría: 10. Violenci
 a\, guerra y transiciones\, Simposio: Violência e perseguições religiosas 
 no contexto: brasileiro\nEnlace: https://www.asociacionlatinoamericanadean
 tropologia.net/congreso2017/index.php?option=com_jem&view=event&id=1036:ag
 entes-da-sedicao-premeditada-males-cultura-escrava-repressao-e-resistencia
 -na-comarca-de-alagoas-1815\n
DTSTART:20170609T090000Z
DTEND:20170609T110000Z
LOCATION:Edificio: 02 Salón: 203\,Universidad Javeriana\,Bogotá
SUMMARY:Agentes da Sedição Premeditada”: malês\, cultura escrava\, repressã
 o e resistência na Comarca de Alagoas\, 1815 
URL:https://www.asociacionlatinoamericanadeantropologia.net/congreso2017/in
 dex.php?option=com_jem&view=event&id=1036:agentes-da-sedicao-premeditada-m
 ales-cultura-escrava-repressao-e-resistencia-na-comarca-de-alagoas-1815
END:VEVENT
END:VCALENDAR
