BEGIN:VCALENDAR
VERSION:2.0
PRODID:-//192.99.84.55//NONSGML kigkonsult.se iCalcreator 2.20//
CALSCALE:GREGORIAN
METHOD:PUBLISH
X-WR-TIMEZONE:UTC
BEGIN:VEVENT
UID:event1000@Congreso 2017
DTSTAMP:20260421T033746Z
CATEGORIES:10. Violencia\, guerra y transiciones\, Simposio: La búsqueda de
  la verdad en contextos de impunidad persistente
DESCRIPTION:El recuerdo de la violencia\, la violencia en el recuerdo: Víct
 ima\, memoria y transición en la museografía chilena de la postdictadura. 
 \nCategoría: 10. Violencia\, guerra y transiciones\, Simposio: La búsqueda
  de la verdad en contextos de impunidad persistente\nEnlace: https://www.a
 sociacionlatinoamericanadeantropologia.net/congreso2017/index.php?option=c
 om_jem&view=event&id=1000:el-recuerdo-de-la-violencia-la-violencia-en-el-r
 ecuerdo-victima-memoria-y-transicion-en-la-museografia-chilena-de-la-postd
 ictadura\n
DTSTART:20170606T160000Z
DTEND:20170606T180000Z
LOCATION:Edificio: 02 Salón: 002\,Universidad Javeriana\,Bogotá
SUMMARY:El recuerdo de la violencia\, la violencia en el recuerdo: Víctima\
 , memoria y transición en la museografía chilena de la postdictadura. 
URL:https://www.asociacionlatinoamericanadeantropologia.net/congreso2017/in
 dex.php?option=com_jem&view=event&id=1000:el-recuerdo-de-la-violencia-la-v
 iolencia-en-el-recuerdo-victima-memoria-y-transicion-en-la-museografia-chi
 lena-de-la-postdictadura
END:VEVENT
END:VCALENDAR
