BEGIN:VCALENDAR
VERSION:2.0
PRODID:-//192.99.84.55//NONSGML kigkonsult.se iCalcreator 2.20//
CALSCALE:GREGORIAN
METHOD:PUBLISH
X-WR-TIMEZONE:UTC
BEGIN:VEVENT
UID:event10@Congreso 2017
DTSTAMP:20260420T235515Z
CATEGORIES:1. Geopolíticas del conocimiento y antropologías del sur\, Simpo
 sio: promovido por el comité académico del congreso. Aproximaciones antrop
 ológicas de/desde Cen
DESCRIPTION:Simposio: Aproximaciones antropológicas de/desde Centroamérica
 \nCategoría: 1. Geopolíticas del conocimiento y antropologías del sur\, Si
 mposio: promovido por el comité académico del congreso. Aproximaciones ant
 ropológicas de/desde Cen\nEnlace: https://www.asociacionlatinoamericanadea
 ntropologia.net/congreso2017/index.php?option=com_jem&view=event&id=10:sim
 posio-promovido-por-el-comite-academico-del-congreso-aproximaciones-antrop
 ologicas-de-desde-centroamerica\n
DTSTART:20170609T090000Z
DTEND:20170609T130000Z
LOCATION:Edificio: 02 Salón: 402\,Universidad Javeriana\,Bogotá
SUMMARY:Simposio: Aproximaciones antropológicas de/desde Centroamérica
URL:https://www.asociacionlatinoamericanadeantropologia.net/congreso2017/in
 dex.php?option=com_jem&view=event&id=10:simposio-promovido-por-el-comite-a
 cademico-del-congreso-aproximaciones-antropologicas-de-desde-centroamerica
END:VEVENT
END:VCALENDAR
