BEGIN:VCALENDAR
VERSION:2.0
PRODID:-//192.99.84.55//NONSGML kigkonsult.se iCalcreator 2.20//
CALSCALE:GREGORIAN
METHOD:PUBLISH
X-WR-TIMEZONE:UTC
BEGIN:VEVENT
UID:event85@Congreso 2017
DTSTAMP:20260421T012525Z
CATEGORIES:Simposio: Gobierno\, performances y administración de sujetos y 
 territorios
DESCRIPTION:Simposio: Gobierno\, performances y administración de sujetos y
  territorios\nCategoría: Simposio: Gobierno\, performances y administració
 n de sujetos y territorios\nEnlace: https://www.asociacionlatinoamericanad
 eantropologia.net/congreso2017/index.php?option=com_jem&view=event&id=85:s
 imposio-gobierno-performances-y-administracion-de-sujetos-y-territorios\n
DTSTART:20170608T090000Z
DTEND:20170608T160000Z
LOCATION:Edificio: 67 Salón: 214\,Universidad Javeriana\,Bogotá\,Colombia
SUMMARY:Simposio: Gobierno\, performances y administración de sujetos y ter
 ritorios
URL:https://www.asociacionlatinoamericanadeantropologia.net/congreso2017/in
 dex.php?option=com_jem&view=event&id=85:simposio-gobierno-performances-y-a
 dministracion-de-sujetos-y-territorios
END:VEVENT
BEGIN:VEVENT
UID:event691@Congreso 2017
DTSTAMP:20260421T012525Z
CATEGORIES:Simposio: Gobierno\, performances y administración de sujetos y 
 territorios
DESCRIPTION:Cultivar derechos: la emergencia de asociaciones cannábicas en 
 Argentina\nCategoría: Simposio: Gobierno\, performances y administración d
 e sujetos y territorios\nEnlace: https://www.asociacionlatinoamericanadean
 tropologia.net/congreso2017/index.php?option=com_jem&view=event&id=691:cul
 tivar-derechos-la-emergencia-de-asociaciones-cannabicas-en-argentina\n
DTSTART:20170608T090000Z
DTEND:20170608T110000Z
LOCATION:Edificio: 67 Salón: 214\,Universidad Javeriana\,Bogotá\,Colombia
SUMMARY:Cultivar derechos: la emergencia de asociaciones cannábicas en Arge
 ntina
URL:https://www.asociacionlatinoamericanadeantropologia.net/congreso2017/in
 dex.php?option=com_jem&view=event&id=691:cultivar-derechos-la-emergencia-d
 e-asociaciones-cannabicas-en-argentina
END:VEVENT
BEGIN:VEVENT
UID:event692@Congreso 2017
DTSTAMP:20260421T012525Z
CATEGORIES:Simposio: Gobierno\, performances y administración de sujetos y 
 territorios
DESCRIPTION:Entre chances e riscos\, vantagens e prejuízos: os homens autor
 es de violência doméstica e a sua administração judicial\nCategoría: Simpo
 sio: Gobierno\, performances y administración de sujetos y territorios\nEn
 lace: https://www.asociacionlatinoamericanadeantropologia.net/congreso2017
 /index.php?option=com_jem&view=event&id=692:entre-chances-e-riscos-vantage
 ns-e-prejuizos-os-homens-autores-de-violencia-domestica-e-a-sua-administra
 cao-judicial\n
DTSTART:20170608T090000Z
DTEND:20170608T110000Z
LOCATION:Edificio: 67 Salón: 214\,Universidad Javeriana\,Bogotá\,Colombia
SUMMARY:Entre chances e riscos\, vantagens e prejuízos: os homens autores d
 e violência doméstica e a sua administração judicial
URL:https://www.asociacionlatinoamericanadeantropologia.net/congreso2017/in
 dex.php?option=com_jem&view=event&id=692:entre-chances-e-riscos-vantagens-
 e-prejuizos-os-homens-autores-de-violencia-domestica-e-a-sua-administracao
 -judicial
END:VEVENT
BEGIN:VEVENT
UID:event693@Congreso 2017
DTSTAMP:20260421T012525Z
CATEGORIES:Simposio: Gobierno\, performances y administración de sujetos y 
 territorios
DESCRIPTION:Noche de ronda. Performances estatales y técnicas de poder para
  ordenar la noche en la ciudad de Córdoba (Argentina)\nCategoría: Simposio
 : Gobierno\, performances y administración de sujetos y territorios\nEnlac
 e: https://www.asociacionlatinoamericanadeantropologia.net/congreso2017/in
 dex.php?option=com_jem&view=event&id=693:noche-de-ronda-performances-estat
 ales-y-tecnicas-de-poder-para-ordenar-la-noche-en-la-ciudad-de-cordoba-arg
 entina\n
DTSTART:20170608T090000Z
DTEND:20170608T110000Z
LOCATION:Edificio: 67 Salón: 214\,Universidad Javeriana\,Bogotá\,Colombia
SUMMARY:Noche de ronda. Performances estatales y técnicas de poder para ord
 enar la noche en la ciudad de Córdoba (Argentina)
URL:https://www.asociacionlatinoamericanadeantropologia.net/congreso2017/in
 dex.php?option=com_jem&view=event&id=693:noche-de-ronda-performances-estat
 ales-y-tecnicas-de-poder-para-ordenar-la-noche-en-la-ciudad-de-cordoba-arg
 entina
END:VEVENT
BEGIN:VEVENT
UID:event694@Congreso 2017
DTSTAMP:20260421T012525Z
CATEGORIES:Simposio: Gobierno\, performances y administración de sujetos y 
 territorios
DESCRIPTION:Processos de identificação\, classificação e essencialização na
  rotina administrativa de instituições de acolhimento da cidade do Rio de 
 Janeiro\nCategoría: Simposio: Gobierno\, performances y administración de 
 sujetos y territorios\nEnlace: https://www.asociacionlatinoamericanadeantr
 opologia.net/congreso2017/index.php?option=com_jem&view=event&id=694:proce
 ssos-de-identificacao-classificacao-e-essencializacao-na-rotina-administra
 tiva-de-instituicoes-de-acolhimento-da-cidade-do-rio-de-janeiro\n
DTSTART:20170608T090000Z
DTEND:20170608T110000Z
LOCATION:Edificio: 67 Salón: 214\,Universidad Javeriana\,Bogotá\,Colombia
SUMMARY:Processos de identificação\, classificação e essencialização na rot
 ina administrativa de instituições de acolhimento da cidade do Rio de Jane
 iro
URL:https://www.asociacionlatinoamericanadeantropologia.net/congreso2017/in
 dex.php?option=com_jem&view=event&id=694:processos-de-identificacao-classi
 ficacao-e-essencializacao-na-rotina-administrativa-de-instituicoes-de-acol
 himento-da-cidade-do-rio-de-janeiro
END:VEVENT
BEGIN:VEVENT
UID:event695@Congreso 2017
DTSTAMP:20260421T012525Z
CATEGORIES:Simposio: Gobierno\, performances y administración de sujetos y 
 territorios
DESCRIPTION:Políticas Públicas\, Cidadania e territórios periféricos: a per
 manente (re)construção do estado nas margens do Rio de Janeiro.\nCategoría
 : Simposio: Gobierno\, performances y administración de sujetos y territor
 ios\nEnlace: https://www.asociacionlatinoamericanadeantropologia.net/congr
 eso2017/index.php?option=com_jem&view=event&id=695:politicas-publicas-cida
 dania-e-territorios-perifericos-a-permanente-re-construcao-do-estado-nas-m
 argens-do-rio-de-janeiro\n
DTSTART:20170608T110000Z
DTEND:20170608T130000Z
LOCATION:Edificio: 67 Salón: 214\,Universidad Javeriana\,Bogotá\,Colombia
SUMMARY:Políticas Públicas\, Cidadania e territórios periféricos: a permane
 nte (re)construção do estado nas margens do Rio de Janeiro.
URL:https://www.asociacionlatinoamericanadeantropologia.net/congreso2017/in
 dex.php?option=com_jem&view=event&id=695:politicas-publicas-cidadania-e-te
 rritorios-perifericos-a-permanente-re-construcao-do-estado-nas-margens-do-
 rio-de-janeiro
END:VEVENT
BEGIN:VEVENT
UID:event696@Congreso 2017
DTSTAMP:20260421T012525Z
CATEGORIES:Simposio: Gobierno\, performances y administración de sujetos y 
 territorios
DESCRIPTION:“Bem aventurados os pacificadores”: práticas de militarização e
  disciplinarização dos corpos nas margens da cidade do Rio de Janeiro\nCat
 egoría: Simposio: Gobierno\, performances y administración de sujetos y te
 rritorios\nEnlace: https://www.asociacionlatinoamericanadeantropologia.net
 /congreso2017/index.php?option=com_jem&view=event&id=696:bem-aventurados-o
 s-pacificadores-praticas-de-militarizacao-e-disciplinarizacao-dos-corpos-n
 as-margens-da-cidade-do-rio-de-janeiro\n
DTSTART:20170608T110000Z
DTEND:20170608T130000Z
LOCATION:Edificio: 67 Salón: 214\,Universidad Javeriana\,Bogotá\,Colombia
SUMMARY:“Bem aventurados os pacificadores”: práticas de militarização e dis
 ciplinarização dos corpos nas margens da cidade do Rio de Janeiro
URL:https://www.asociacionlatinoamericanadeantropologia.net/congreso2017/in
 dex.php?option=com_jem&view=event&id=696:bem-aventurados-os-pacificadores-
 praticas-de-militarizacao-e-disciplinarizacao-dos-corpos-nas-margens-da-ci
 dade-do-rio-de-janeiro
END:VEVENT
BEGIN:VEVENT
UID:event697@Congreso 2017
DTSTAMP:20260421T012525Z
CATEGORIES:Simposio: Gobierno\, performances y administración de sujetos y 
 territorios
DESCRIPTION:Una guerra filtrada: la ejemplaridad de los refugiados colombia
 nos en el Sur y Sudeste de Brasil\nCategoría: Simposio: Gobierno\, perform
 ances y administración de sujetos y territorios\nEnlace: https://www.asoci
 acionlatinoamericanadeantropologia.net/congreso2017/index.php?option=com_j
 em&view=event&id=697:una-guerra-filtrada-la-ejemplaridad-de-los-refugiados
 -colombianos-en-el-sur-y-sudeste-de-brasil\n
DTSTART:20170608T110000Z
DTEND:20170608T130000Z
LOCATION:Edificio: 67 Salón: 214\,Universidad Javeriana\,Bogotá\,Colombia
SUMMARY:Una guerra filtrada: la ejemplaridad de los refugiados colombianos 
 en el Sur y Sudeste de Brasil
URL:https://www.asociacionlatinoamericanadeantropologia.net/congreso2017/in
 dex.php?option=com_jem&view=event&id=697:una-guerra-filtrada-la-ejemplarid
 ad-de-los-refugiados-colombianos-en-el-sur-y-sudeste-de-brasil
END:VEVENT
BEGIN:VEVENT
UID:event698@Congreso 2017
DTSTAMP:20260421T012525Z
CATEGORIES:Simposio: Gobierno\, performances y administración de sujetos y 
 territorios
DESCRIPTION:‘Estados afectivos’ y ‘efecto Estado’: revolución urbana y géne
 ro en Caracas\, Venezuela\nCategoría: Simposio: Gobierno\, performances y 
 administración de sujetos y territorios\nEnlace: https://www.asociacionlat
 inoamericanadeantropologia.net/congreso2017/index.php?option=com_jem&view=
 event&id=698:estados-afectivos-y-efecto-estado-revolucion-urbana-y-genero-
 en-caracas-venezuela\n
DTSTART:20170608T110000Z
DTEND:20170608T130000Z
LOCATION:Edificio: 67 Salón: 214\,Universidad Javeriana\,Bogotá\,Colombia
SUMMARY:‘Estados afectivos’ y ‘efecto Estado’: revolución urbana y género e
 n Caracas\, Venezuela
URL:https://www.asociacionlatinoamericanadeantropologia.net/congreso2017/in
 dex.php?option=com_jem&view=event&id=698:estados-afectivos-y-efecto-estado
 -revolucion-urbana-y-genero-en-caracas-venezuela
END:VEVENT
BEGIN:VEVENT
UID:event699@Congreso 2017
DTSTAMP:20260421T012525Z
CATEGORIES:Simposio: Gobierno\, performances y administración de sujetos y 
 territorios
DESCRIPTION:Rondas de embarazo y nacimientos conscientes: performances y ad
 ministración de cuerpos maternales\nCategoría: Simposio: Gobierno\, perfor
 mances y administración de sujetos y territorios\nEnlace: https://www.asoc
 iacionlatinoamericanadeantropologia.net/congreso2017/index.php?option=com_
 jem&view=event&id=699:rondas-de-embarazo-y-nacimientos-conscientes-perform
 ances-y-administracion-de-cuerpos-maternales\n
DTSTART:20170608T140000Z
DTEND:20170608T160000Z
LOCATION:Edificio: 67 Salón: 214\,Universidad Javeriana\,Bogotá\,Colombia
SUMMARY:Rondas de embarazo y nacimientos conscientes: performances y admini
 stración de cuerpos maternales
URL:https://www.asociacionlatinoamericanadeantropologia.net/congreso2017/in
 dex.php?option=com_jem&view=event&id=699:rondas-de-embarazo-y-nacimientos-
 conscientes-performances-y-administracion-de-cuerpos-maternales
END:VEVENT
BEGIN:VEVENT
UID:event700@Congreso 2017
DTSTAMP:20260421T012525Z
CATEGORIES:Simposio: Gobierno\, performances y administración de sujetos y 
 territorios
DESCRIPTION:Excluir por la universalidad: definiciones y clasificaciones di
 sputadas en la regulación del espacio público en el Centro Histórico de la
  Ciudad de México\nCategoría: Simposio: Gobierno\, performances y administ
 ración de sujetos y territorios\nEnlace: https://www.asociacionlatinoameri
 canadeantropologia.net/congreso2017/index.php?option=com_jem&view=event&id
 =700:excluir-por-la-universalidad-definiciones-y-clasificaciones-disputada
 s-en-la-regulacion-del-espacio-publico-en-el-centro-historico-de-la-ciudad
 -de-mexico\n
DTSTART:20170608T140000Z
DTEND:20170608T160000Z
LOCATION:Edificio: 67 Salón: 214\,Universidad Javeriana\,Bogotá\,Colombia
SUMMARY:Excluir por la universalidad: definiciones y clasificaciones disput
 adas en la regulación del espacio público en el Centro Histórico de la Ciu
 dad de México
URL:https://www.asociacionlatinoamericanadeantropologia.net/congreso2017/in
 dex.php?option=com_jem&view=event&id=700:excluir-por-la-universalidad-defi
 niciones-y-clasificaciones-disputadas-en-la-regulacion-del-espacio-publico
 -en-el-centro-historico-de-la-ciudad-de-mexico
END:VEVENT
BEGIN:VEVENT
UID:event701@Congreso 2017
DTSTAMP:20260421T012525Z
CATEGORIES:Simposio: Gobierno\, performances y administración de sujetos y 
 territorios
DESCRIPTION:Los presos LGBT en Brasil: la formación de demandas y el surgim
 iento de las políticas públicas\nCategoría: Simposio: Gobierno\, performan
 ces y administración de sujetos y territorios\nEnlace: https://www.asociac
 ionlatinoamericanadeantropologia.net/congreso2017/index.php?option=com_jem
 &view=event&id=701:los-presos-lgbt-en-brasil-la-formacion-de-demandas-y-el
 -surgimiento-de-las-politicas-publicas\n
DTSTART:20170608T140000Z
DTEND:20170608T160000Z
LOCATION:Edificio: 67 Salón: 214\,Universidad Javeriana\,Bogotá\,Colombia
SUMMARY:Los presos LGBT en Brasil: la formación de demandas y el surgimient
 o de las políticas públicas
URL:https://www.asociacionlatinoamericanadeantropologia.net/congreso2017/in
 dex.php?option=com_jem&view=event&id=701:los-presos-lgbt-en-brasil-la-form
 acion-de-demandas-y-el-surgimiento-de-las-politicas-publicas
END:VEVENT
BEGIN:VEVENT
UID:event702@Congreso 2017
DTSTAMP:20260421T012525Z
CATEGORIES:Simposio: Gobierno\, performances y administración de sujetos y 
 territorios
DESCRIPTION:La BUENAS PRACTICAS como tecnología de gobierno en la Córdoba c
 ontemporánea\nCategoría: Simposio: Gobierno\, performances y administració
 n de sujetos y territorios\nEnlace: https://www.asociacionlatinoamericanad
 eantropologia.net/congreso2017/index.php?option=com_jem&view=event&id=702:
 la-buenas-practicas-como-tecnologia-de-gobierno-en-la-cordoba-contemporane
 a\n
DTSTART:20170608T140000Z
DTEND:20170608T160000Z
LOCATION:Edificio: 67 Salón: 214\,Universidad Javeriana\,Bogotá\,Colombia
SUMMARY:La BUENAS PRACTICAS como tecnología de gobierno en la Córdoba conte
 mporánea
URL:https://www.asociacionlatinoamericanadeantropologia.net/congreso2017/in
 dex.php?option=com_jem&view=event&id=702:la-buenas-practicas-como-tecnolog
 ia-de-gobierno-en-la-cordoba-contemporanea
END:VEVENT
END:VCALENDAR
