BEGIN:VCALENDAR
VERSION:2.0
PRODID:-//192.99.84.55//NONSGML kigkonsult.se iCalcreator 2.20//
CALSCALE:GREGORIAN
METHOD:PUBLISH
X-WR-TIMEZONE:UTC
BEGIN:VEVENT
UID:event645@Congreso 2017
DTSTAMP:20260421T012525Z
CATEGORIES:Simposio: Aproximaciones antropológicas a los mecanismos de domi
 nación estatal
DESCRIPTION:La estatalización de los Derechos Humanos: Derecho Internaciona
 l y formaciones burocráticas en Colombia \nCategoría: Simposio: Aproximaci
 ones antropológicas a los mecanismos de dominación estatal\nEnlace: https:
 //www.asociacionlatinoamericanadeantropologia.net/congreso2017/index.php?o
 ption=com_jem&view=event&id=645:la-estatalizacion-de-los-derechos-humanos-
 derecho-internacional-y-formaciones-burocraticas-en-colombia\n
DTSTART:20170606T140000Z
DTEND:20170607T110000Z
LOCATION:Edificio: 67 Salón: 410\,Universidad Javeriana\,Bogotá\,Colombia
SUMMARY:La estatalización de los Derechos Humanos: Derecho Internacional y 
 formaciones burocráticas en Colombia 
URL:https://www.asociacionlatinoamericanadeantropologia.net/congreso2017/in
 dex.php?option=com_jem&view=event&id=645:la-estatalizacion-de-los-derechos
 -humanos-derecho-internacional-y-formaciones-burocraticas-en-colombia
END:VEVENT
BEGIN:VEVENT
UID:event646@Congreso 2017
DTSTAMP:20260421T012525Z
CATEGORIES:Simposio: Aproximaciones antropológicas a los mecanismos de domi
 nación estatal
DESCRIPTION:El constitucionalismo europeo: ¿La Unión Europea como un experi
 mento fracasado o un renacimiento de los ideales originarios europeos?  \n
 Categoría: Simposio: Aproximaciones antropológicas a los mecanismos de dom
 inación estatal\nEnlace: https://www.asociacionlatinoamericanadeantropolog
 ia.net/congreso2017/index.php?option=com_jem&view=event&id=646:el-constitu
 cionalismo-europeo-la-union-europea-como-un-experimento-fracasado-o-un-ren
 acimiento-de-los-ideales-originarios-europeos\n
DTSTART:20170606T140000Z
DTEND:20170607T110000Z
LOCATION:Edificio: 67 Salón: 410\,Universidad Javeriana\,Bogotá\,Colombia
SUMMARY:El constitucionalismo europeo: ¿La Unión Europea como un experiment
 o fracasado o un renacimiento de los ideales originarios europeos?  
URL:https://www.asociacionlatinoamericanadeantropologia.net/congreso2017/in
 dex.php?option=com_jem&view=event&id=646:el-constitucionalismo-europeo-la-
 union-europea-como-un-experimento-fracasado-o-un-renacimiento-de-los-ideal
 es-originarios-europeos
END:VEVENT
BEGIN:VEVENT
UID:event647@Congreso 2017
DTSTAMP:20260421T012525Z
CATEGORIES:Simposio: Aproximaciones antropológicas a los mecanismos de domi
 nación estatal
DESCRIPTION:Democracia participativa en Venezuela frente a las resistencias
  del Estado Burgues \nCategoría: Simposio: Aproximaciones antropológicas a
  los mecanismos de dominación estatal\nEnlace: https://www.asociacionlatin
 oamericanadeantropologia.net/congreso2017/index.php?option=com_jem&view=ev
 ent&id=647:democracia-participativa-en-venezuela-frente-a-las-resistencias
 -del-estado-burgues\n
DTSTART:20170606T140000Z
DTEND:20170607T110000Z
LOCATION:Edificio: 67 Salón: 410\,Universidad Javeriana\,Bogotá\,Colombia
SUMMARY:Democracia participativa en Venezuela frente a las resistencias del
  Estado Burgues 
URL:https://www.asociacionlatinoamericanadeantropologia.net/congreso2017/in
 dex.php?option=com_jem&view=event&id=647:democracia-participativa-en-venez
 uela-frente-a-las-resistencias-del-estado-burgues
END:VEVENT
BEGIN:VEVENT
UID:event648@Congreso 2017
DTSTAMP:20260421T012525Z
CATEGORIES:Simposio: Aproximaciones antropológicas a los mecanismos de domi
 nación estatal
DESCRIPTION:Inmigración\, Estado y las Instituciones: políticas públicas en
  contextos democráticos de derecho\nCategoría: Simposio: Aproximaciones an
 tropológicas a los mecanismos de dominación estatal\nEnlace: https://www.a
 sociacionlatinoamericanadeantropologia.net/congreso2017/index.php?option=c
 om_jem&view=event&id=648:inmigracion-estado-y-las-instituciones-politicas-
 publicas-en-contextos-democraticos-de-derecho\n
DTSTART:20170606T140000Z
DTEND:20170607T110000Z
LOCATION:Edificio: 67 Salón: 410\,Universidad Javeriana\,Bogotá\,Colombia
SUMMARY:Inmigración\, Estado y las Instituciones: políticas públicas en con
 textos democráticos de derecho
URL:https://www.asociacionlatinoamericanadeantropologia.net/congreso2017/in
 dex.php?option=com_jem&view=event&id=648:inmigracion-estado-y-las-instituc
 iones-politicas-publicas-en-contextos-democraticos-de-derecho
END:VEVENT
BEGIN:VEVENT
UID:event649@Congreso 2017
DTSTAMP:20260421T012525Z
CATEGORIES:Simposio: Aproximaciones antropológicas a los mecanismos de domi
 nación estatal
DESCRIPTION:Sin derecho a ser ciudadana\nCategoría: Simposio: Aproximacione
 s antropológicas a los mecanismos de dominación estatal\nEnlace: https://w
 ww.asociacionlatinoamericanadeantropologia.net/congreso2017/index.php?opti
 on=com_jem&view=event&id=649:sin-derecho-a-ser-ciudadana\n
DTSTART:20170606T140000Z
DTEND:20170607T110000Z
LOCATION:Edificio: 67 Salón: 410\,Universidad Javeriana\,Bogotá\,Colombia
SUMMARY:Sin derecho a ser ciudadana
URL:https://www.asociacionlatinoamericanadeantropologia.net/congreso2017/in
 dex.php?option=com_jem&view=event&id=649:sin-derecho-a-ser-ciudadana
END:VEVENT
BEGIN:VEVENT
UID:event650@Congreso 2017
DTSTAMP:20260421T012525Z
CATEGORIES:Simposio: Aproximaciones antropológicas a los mecanismos de domi
 nación estatal
DESCRIPTION:Estado de lo Inmune: Institución\, gobernanza y dominación desd
 e la perspectiva multicultural chilena.\nCategoría: Simposio: Aproximacion
 es antropológicas a los mecanismos de dominación estatal\nEnlace: https://
 www.asociacionlatinoamericanadeantropologia.net/congreso2017/index.php?opt
 ion=com_jem&view=event&id=650:estado-de-lo-inmune-institucion-gobernanza-y
 -dominacion-desde-la-perspectiva-multicultural-chilena\n
DTSTART:20170606T140000Z
DTEND:20170607T110000Z
LOCATION:Edificio: 67 Salón: 410\,Universidad Javeriana\,Bogotá\,Colombia
SUMMARY:Estado de lo Inmune: Institución\, gobernanza y dominación desde la
  perspectiva multicultural chilena.
URL:https://www.asociacionlatinoamericanadeantropologia.net/congreso2017/in
 dex.php?option=com_jem&view=event&id=650:estado-de-lo-inmune-institucion-g
 obernanza-y-dominacion-desde-la-perspectiva-multicultural-chilena
END:VEVENT
BEGIN:VEVENT
UID:event651@Congreso 2017
DTSTAMP:20260421T012525Z
CATEGORIES:Simposio: Aproximaciones antropológicas a los mecanismos de domi
 nación estatal
DESCRIPTION:Contrabandistas como “guardianes de la frontera”: Producción ma
 terial y simbólica del territorio y del estado en la frontera Bolivia-Chil
 e \nCategoría: Simposio: Aproximaciones antropológicas a los mecanismos de
  dominación estatal\nEnlace: https://www.asociacionlatinoamericanadeantrop
 ologia.net/congreso2017/index.php?option=com_jem&view=event&id=651:contrab
 andistas-como-guardianes-de-la-frontera-produccion-material-y-simbolica-de
 l-territorio-y-del-estado-en-la-frontera-bolivia-chile\n
DTSTART:20170606T140000Z
DTEND:20170607T110000Z
LOCATION:Edificio: 67 Salón: 410\,Universidad Javeriana\,Bogotá\,Colombia
SUMMARY:Contrabandistas como “guardianes de la frontera”: Producción materi
 al y simbólica del territorio y del estado en la frontera Bolivia-Chile 
URL:https://www.asociacionlatinoamericanadeantropologia.net/congreso2017/in
 dex.php?option=com_jem&view=event&id=651:contrabandistas-como-guardianes-d
 e-la-frontera-produccion-material-y-simbolica-del-territorio-y-del-estado-
 en-la-frontera-bolivia-chile
END:VEVENT
BEGIN:VEVENT
UID:event652@Congreso 2017
DTSTAMP:20260421T012525Z
CATEGORIES:Simposio: Aproximaciones antropológicas a los mecanismos de domi
 nación estatal
DESCRIPTION:Moverse y estar atascado? Movilidades diferenciadas en Cali\, C
 olombia\nCategoría: Simposio: Aproximaciones antropológicas a los mecanism
 os de dominación estatal\nEnlace: https://www.asociacionlatinoamericanadea
 ntropologia.net/congreso2017/index.php?option=com_jem&view=event&id=652:mo
 verse-y-estar-atascado-movilidades-diferenciadas-en-cali-colombia\n
DTSTART:20170606T140000Z
DTEND:20170607T110000Z
LOCATION:Edificio: 67 Salón: 410\,Universidad Javeriana\,Bogotá\,Colombia
SUMMARY:Moverse y estar atascado? Movilidades diferenciadas en Cali\, Colom
 bia
URL:https://www.asociacionlatinoamericanadeantropologia.net/congreso2017/in
 dex.php?option=com_jem&view=event&id=652:moverse-y-estar-atascado-movilida
 des-diferenciadas-en-cali-colombia
END:VEVENT
BEGIN:VEVENT
UID:event653@Congreso 2017
DTSTAMP:20260421T012525Z
CATEGORIES:Simposio: Aproximaciones antropológicas a los mecanismos de domi
 nación estatal
DESCRIPTION:Entre performances y taxonomías: etnografía de la política públ
 ica para los afrodescendientes en Cali  \nCategoría: Simposio: Aproximacio
 nes antropológicas a los mecanismos de dominación estatal\nEnlace: https:/
 /www.asociacionlatinoamericanadeantropologia.net/congreso2017/index.php?op
 tion=com_jem&view=event&id=653:entre-performances-y-taxonomias-etnografia-
 de-la-politica-publica-para-los-afrodescendientes-en-cali\n
DTSTART:20170606T140000Z
DTEND:20170607T110000Z
LOCATION:Edificio: 67 Salón: 410\,Universidad Javeriana\,Bogotá\,Colombia
SUMMARY:Entre performances y taxonomías: etnografía de la política pública 
 para los afrodescendientes en Cali  
URL:https://www.asociacionlatinoamericanadeantropologia.net/congreso2017/in
 dex.php?option=com_jem&view=event&id=653:entre-performances-y-taxonomias-e
 tnografia-de-la-politica-publica-para-los-afrodescendientes-en-cali
END:VEVENT
BEGIN:VEVENT
UID:event654@Congreso 2017
DTSTAMP:20260421T012525Z
CATEGORIES:Simposio: Aproximaciones antropológicas a los mecanismos de domi
 nación estatal
DESCRIPTION:Las Artes de Gobernar en México. Problemas de escala e intensid
 ad en la producción necropolítica y el Estado de Derecho. \nCategoría: Sim
 posio: Aproximaciones antropológicas a los mecanismos de dominación estata
 l\nEnlace: https://www.asociacionlatinoamericanadeantropologia.net/congres
 o2017/index.php?option=com_jem&view=event&id=654:las-artes-de-gobernar-en-
 mexico-problemas-de-escala-e-intensidad-en-la-produccion-necropolitica-y-e
 l-estado-de-derecho\n
DTSTART:20170606T140000Z
DTEND:20170607T110000Z
LOCATION:Edificio: 67 Salón: 410\,Universidad Javeriana\,Bogotá\,Colombia
SUMMARY:Las Artes de Gobernar en México. Problemas de escala e intensidad e
 n la producción necropolítica y el Estado de Derecho. 
URL:https://www.asociacionlatinoamericanadeantropologia.net/congreso2017/in
 dex.php?option=com_jem&view=event&id=654:las-artes-de-gobernar-en-mexico-p
 roblemas-de-escala-e-intensidad-en-la-produccion-necropolitica-y-el-estado
 -de-derecho
END:VEVENT
BEGIN:VEVENT
UID:event655@Congreso 2017
DTSTAMP:20260421T012525Z
CATEGORIES:Simposio: Aproximaciones antropológicas a los mecanismos de domi
 nación estatal
DESCRIPTION:Desestatalización del gobierno e institucionalización de la soc
 iedad civil. El papel de los actores privados en políticas de prevención d
 e la violencia.\nCategoría: Simposio: Aproximaciones antropológicas a los 
 mecanismos de dominación estatal\nEnlace: https://www.asociacionlatinoamer
 icanadeantropologia.net/congreso2017/index.php?option=com_jem&view=event&i
 d=655:desestatalizacion-del-gobierno-e-institucionalizacion-de-la-sociedad
 -civil-el-papel-de-los-actores-privados-en-politicas-de-prevencion-de-la-v
 iolencia\n
DTSTART:20170606T140000Z
DTEND:20170607T110000Z
LOCATION:Edificio: 67 Salón: 410\,Universidad Javeriana\,Bogotá\,Colombia
SUMMARY:Desestatalización del gobierno e institucionalización de la socieda
 d civil. El papel de los actores privados en políticas de prevención de la
  violencia.
URL:https://www.asociacionlatinoamericanadeantropologia.net/congreso2017/in
 dex.php?option=com_jem&view=event&id=655:desestatalizacion-del-gobierno-e-
 institucionalizacion-de-la-sociedad-civil-el-papel-de-los-actores-privados
 -en-politicas-de-prevencion-de-la-violencia
END:VEVENT
BEGIN:VEVENT
UID:event656@Congreso 2017
DTSTAMP:20260421T012525Z
CATEGORIES:Simposio: Aproximaciones antropológicas a los mecanismos de domi
 nación estatal
DESCRIPTION:Etnografía del Estado: entre réplicas\, fractales y fetiches\nC
 ategoría: Simposio: Aproximaciones antropológicas a los mecanismos de domi
 nación estatal\nEnlace: https://www.asociacionlatinoamericanadeantropologi
 a.net/congreso2017/index.php?option=com_jem&view=event&id=656:etnografia-d
 el-estado-entre-replicas-fractales-y-fetiches\n
DTSTART:20170606T140000Z
DTEND:20170607T110000Z
LOCATION:Edificio: 67 Salón: 410\,Universidad Javeriana\,Bogotá\,Colombia
SUMMARY:Etnografía del Estado: entre réplicas\, fractales y fetiches
URL:https://www.asociacionlatinoamericanadeantropologia.net/congreso2017/in
 dex.php?option=com_jem&view=event&id=656:etnografia-del-estado-entre-repli
 cas-fractales-y-fetiches
END:VEVENT
END:VCALENDAR
