BEGIN:VCALENDAR
VERSION:2.0
PRODID:-//192.99.84.55//NONSGML kigkonsult.se iCalcreator 2.20//
CALSCALE:GREGORIAN
METHOD:PUBLISH
X-WR-TIMEZONE:UTC
BEGIN:VEVENT
UID:event47@Congreso 2017
DTSTAMP:20260421T012524Z
CATEGORIES:Simposio: Relações Humano-Animal na Antropologia 
DESCRIPTION:Simposio: Relações Humano-Animal na Antropologia \nCategoría: S
 imposio: Relações Humano-Animal na Antropologia \nEnlace: https://www.asoc
 iacionlatinoamericanadeantropologia.net/congreso2017/index.php?option=com_
 jem&view=event&id=47:simposio-relacoes-humano-animal-na-antropologia\n
DTSTART:20170608T110000Z
DTEND:20170608T180000Z
LOCATION:Edificio: 67 Salón: 503\,Universidad Javeriana\,Bogotá\,Colombia
SUMMARY:Simposio: Relações Humano-Animal na Antropologia 
URL:https://www.asociacionlatinoamericanadeantropologia.net/congreso2017/in
 dex.php?option=com_jem&view=event&id=47:simposio-relacoes-humano-animal-na
 -antropologia
END:VEVENT
BEGIN:VEVENT
UID:event463@Congreso 2017
DTSTAMP:20260421T012524Z
CATEGORIES:Simposio: Relações Humano-Animal na Antropologia 
DESCRIPTION:Ações de divórcio e animais de estimação: notas sobre a institu
 cionalização de famílias interespecíficas\nCategoría: Simposio: Relações H
 umano-Animal na Antropologia \nEnlace: https://www.asociacionlatinoamerica
 nadeantropologia.net/congreso2017/index.php?option=com_jem&view=event&id=4
 63:acoes-de-divorcio-e-animais-de-estimacao-notas-sobre-a-institucionaliza
 cao-de-familias-interespecificas\n
DTSTART:20170608T110000Z
DTEND:20170608T130000Z
LOCATION:Edificio: 67 Salón: 503\,Universidad Javeriana\,Bogotá\,Colombia
SUMMARY:Ações de divórcio e animais de estimação: notas sobre a institucion
 alização de famílias interespecíficas
URL:https://www.asociacionlatinoamericanadeantropologia.net/congreso2017/in
 dex.php?option=com_jem&view=event&id=463:acoes-de-divorcio-e-animais-de-es
 timacao-notas-sobre-a-institucionalizacao-de-familias-interespecificas
END:VEVENT
BEGIN:VEVENT
UID:event464@Congreso 2017
DTSTAMP:20260421T012524Z
CATEGORIES:Simposio: Relações Humano-Animal na Antropologia 
DESCRIPTION:’Fieros’ y ‘criados’. Devenires animales en los cerros de Jujuy
  (Argentina)\nCategoría: Simposio: Relações Humano-Animal na Antropologia 
 \nEnlace: https://www.asociacionlatinoamericanadeantropologia.net/congreso
 2017/index.php?option=com_jem&view=event&id=464:fieros-y-criados-devenires
 -animales-en-los-cerros-de-jujuy-argentina\n
DTSTART:20170608T110000Z
DTEND:20170608T130000Z
LOCATION:Edificio: 67 Salón: 503\,Universidad Javeriana\,Bogotá\,Colombia
SUMMARY:’Fieros’ y ‘criados’. Devenires animales en los cerros de Jujuy (Ar
 gentina)
URL:https://www.asociacionlatinoamericanadeantropologia.net/congreso2017/in
 dex.php?option=com_jem&view=event&id=464:fieros-y-criados-devenires-animal
 es-en-los-cerros-de-jujuy-argentina
END:VEVENT
BEGIN:VEVENT
UID:event465@Congreso 2017
DTSTAMP:20260421T012524Z
CATEGORIES:Simposio: Relações Humano-Animal na Antropologia 
DESCRIPTION:Soltando as rédeas: uma etnografia sobre moralidades nas relaçõ
 es com animais de carga \nCategoría: Simposio: Relações Humano-Animal na A
 ntropologia \nEnlace: https://www.asociacionlatinoamericanadeantropologia.
 net/congreso2017/index.php?option=com_jem&view=event&id=465:soltando-as-re
 deas-uma-etnografia-sobre-moralidades-nas-relacoes-com-animais-de-carga\n
DTSTART:20170608T110000Z
DTEND:20170608T130000Z
LOCATION:Edificio: 67 Salón: 503\,Universidad Javeriana\,Bogotá\,Colombia
SUMMARY:Soltando as rédeas: uma etnografia sobre moralidades nas relações c
 om animais de carga 
URL:https://www.asociacionlatinoamericanadeantropologia.net/congreso2017/in
 dex.php?option=com_jem&view=event&id=465:soltando-as-redeas-uma-etnografia
 -sobre-moralidades-nas-relacoes-com-animais-de-carga
END:VEVENT
BEGIN:VEVENT
UID:event466@Congreso 2017
DTSTAMP:20260421T012524Z
CATEGORIES:Simposio: Relações Humano-Animal na Antropologia 
DESCRIPTION:Compaixão e proteção a animais de rua: gênero\, emoções e moral
 .\nCategoría: Simposio: Relações Humano-Animal na Antropologia \nEnlace: h
 ttps://www.asociacionlatinoamericanadeantropologia.net/congreso2017/index.
 php?option=com_jem&view=event&id=466:compaixao-e-protecao-a-animais-de-rua
 -genero-emocoes-e-moral\n
DTSTART:20170608T110000Z
DTEND:20170608T130000Z
LOCATION:Edificio: 67 Salón: 503\,Universidad Javeriana\,Bogotá\,Colombia
SUMMARY:Compaixão e proteção a animais de rua: gênero\, emoções e moral.
URL:https://www.asociacionlatinoamericanadeantropologia.net/congreso2017/in
 dex.php?option=com_jem&view=event&id=466:compaixao-e-protecao-a-animais-de
 -rua-genero-emocoes-e-moral
END:VEVENT
BEGIN:VEVENT
UID:event467@Congreso 2017
DTSTAMP:20260421T012524Z
CATEGORIES:Simposio: Relações Humano-Animal na Antropologia 
DESCRIPTION:Producción\, circulación y tipos de consumo doméstico y post do
 méstico de perros en el área con Leishmaniasis Visceral de triple frontera
  Argentina\, Brasil\, Paraguay.\nCategoría: Simposio: Relações Humano-Anim
 al na Antropologia \nEnlace: https://www.asociacionlatinoamericanadeantrop
 ologia.net/congreso2017/index.php?option=com_jem&view=event&id=467:producc
 ion-circulacion-y-tipos-de-consumo-domestico-y-post-domestico-de-perros-en
 -el-area-con-leishmaniasis-visceral-de-triple-frontera-argentina-brasil-pa
 raguay\n
DTSTART:20170608T140000Z
DTEND:20170608T160000Z
LOCATION:Edificio: 67 Salón: 503\,Universidad Javeriana\,Bogotá\,Colombia
SUMMARY:Producción\, circulación y tipos de consumo doméstico y post domést
 ico de perros en el área con Leishmaniasis Visceral de triple frontera Arg
 entina\, Brasil\, Paraguay.
URL:https://www.asociacionlatinoamericanadeantropologia.net/congreso2017/in
 dex.php?option=com_jem&view=event&id=467:produccion-circulacion-y-tipos-de
 -consumo-domestico-y-post-domestico-de-perros-en-el-area-con-leishmaniasis
 -visceral-de-triple-frontera-argentina-brasil-paraguay
END:VEVENT
BEGIN:VEVENT
UID:event468@Congreso 2017
DTSTAMP:20260421T012524Z
CATEGORIES:Simposio: Relações Humano-Animal na Antropologia 
DESCRIPTION:'Causo de cobra': relatos de encontros com serpentes peçonhenta
 s em Urucuia\, MG\nCategoría: Simposio: Relações Humano-Animal na Antropol
 ogia \nEnlace: https://www.asociacionlatinoamericanadeantropologia.net/con
 greso2017/index.php?option=com_jem&view=event&id=468:causo-de-cobra-relato
 s-de-encontros-com-serpentes-peconhentas-em-urucuia-mg\n
DTSTART:20170608T140000Z
DTEND:20170608T160000Z
LOCATION:Edificio: 67 Salón: 503\,Universidad Javeriana\,Bogotá\,Colombia
SUMMARY:'Causo de cobra': relatos de encontros com serpentes peçonhentas em
  Urucuia\, MG
URL:https://www.asociacionlatinoamericanadeantropologia.net/congreso2017/in
 dex.php?option=com_jem&view=event&id=468:causo-de-cobra-relatos-de-encontr
 os-com-serpentes-peconhentas-em-urucuia-mg
END:VEVENT
BEGIN:VEVENT
UID:event469@Congreso 2017
DTSTAMP:20260421T012524Z
CATEGORIES:Simposio: Relações Humano-Animal na Antropologia 
DESCRIPTION:As relações humano-animal em Belém (PA): interações entre urubu
 s-de-cabeça-preta e garças-brancas-grandes com os coletivos humanos na Ped
 ra do Peixe\, Mercado do Ver-o-Peso\nCategoría: Simposio: Relações Humano-
 Animal na Antropologia \nEnlace: https://www.asociacionlatinoamericanadean
 tropologia.net/congreso2017/index.php?option=com_jem&view=event&id=469:as-
 relacoes-humano-animal-em-belem-pa-interacoes-entre-urubus-de-cabeca-preta
 -e-garcas-brancas-grandes-com-os-coletivos-humanos-na-pedra-do-peixe-merca
 do-do-ver-o-peso\n
DTSTART:20170608T140000Z
DTEND:20170608T160000Z
LOCATION:Edificio: 67 Salón: 503\,Universidad Javeriana\,Bogotá\,Colombia
SUMMARY:As relações humano-animal em Belém (PA): interações entre urubus-de
 -cabeça-preta e garças-brancas-grandes com os coletivos humanos na Pedra d
 o Peixe\, Mercado do Ver-o-Peso
URL:https://www.asociacionlatinoamericanadeantropologia.net/congreso2017/in
 dex.php?option=com_jem&view=event&id=469:as-relacoes-humano-animal-em-bele
 m-pa-interacoes-entre-urubus-de-cabeca-preta-e-garcas-brancas-grandes-com-
 os-coletivos-humanos-na-pedra-do-peixe-mercado-do-ver-o-peso
END:VEVENT
BEGIN:VEVENT
UID:event470@Congreso 2017
DTSTAMP:20260421T012524Z
CATEGORIES:Simposio: Relações Humano-Animal na Antropologia 
DESCRIPTION:A nova praga do Egito: um mosquito cosmopolita\nCategoría: Simp
 osio: Relações Humano-Animal na Antropologia \nEnlace: https://www.asociac
 ionlatinoamericanadeantropologia.net/congreso2017/index.php?option=com_jem
 &view=event&id=470:a-nova-praga-do-egito-um-mosquito-cosmopolita\n
DTSTART:20170608T140000Z
DTEND:20170608T160000Z
LOCATION:Edificio: 67 Salón: 503\,Universidad Javeriana\,Bogotá\,Colombia
SUMMARY:A nova praga do Egito: um mosquito cosmopolita
URL:https://www.asociacionlatinoamericanadeantropologia.net/congreso2017/in
 dex.php?option=com_jem&view=event&id=470:a-nova-praga-do-egito-um-mosquito
 -cosmopolita
END:VEVENT
BEGIN:VEVENT
UID:event471@Congreso 2017
DTSTAMP:20260421T012524Z
CATEGORIES:Simposio: Relações Humano-Animal na Antropologia 
DESCRIPTION: “Jogando com o peixe': Pesca artesanal\, técnica e relações hu
 mano-animal no litoral norte Potiguar.\nCategoría: Simposio: Relações Huma
 no-Animal na Antropologia \nEnlace: https://www.asociacionlatinoamericanad
 eantropologia.net/congreso2017/index.php?option=com_jem&view=event&id=471:
 jogando-com-o-peixe-pesca-artesanal-tecnica-e-relacoes-humano-animal-no-li
 toral-norte-potiguar\n
DTSTART:20170608T160000Z
DTEND:20170608T180000Z
LOCATION:Edificio: 67 Salón: 503\,Universidad Javeriana\,Bogotá\,Colombia
SUMMARY: “Jogando com o peixe': Pesca artesanal\, técnica e relações humano
 -animal no litoral norte Potiguar.
URL:https://www.asociacionlatinoamericanadeantropologia.net/congreso2017/in
 dex.php?option=com_jem&view=event&id=471:jogando-com-o-peixe-pesca-artesan
 al-tecnica-e-relacoes-humano-animal-no-litoral-norte-potiguar
END:VEVENT
BEGIN:VEVENT
UID:event472@Congreso 2017
DTSTAMP:20260421T012524Z
CATEGORIES:Simposio: Relações Humano-Animal na Antropologia 
DESCRIPTION:Haciendo “leche que es de todos”. Coordinación\, sincronización
  y estandarización de vacas y personas en la Sabana de Bogotá.\nCategoría:
  Simposio: Relações Humano-Animal na Antropologia \nEnlace: https://www.as
 ociacionlatinoamericanadeantropologia.net/congreso2017/index.php?option=co
 m_jem&view=event&id=472:haciendo-leche-que-es-de-todos-coordinacion-sincro
 nizacion-y-estandarizacion-de-vacas-y-personas-en-la-sabana-de-bogota\n
DTSTART:20170608T160000Z
DTEND:20170608T180000Z
LOCATION:Edificio: 67 Salón: 503\,Universidad Javeriana\,Bogotá\,Colombia
SUMMARY:Haciendo “leche que es de todos”. Coordinación\, sincronización y e
 standarización de vacas y personas en la Sabana de Bogotá.
URL:https://www.asociacionlatinoamericanadeantropologia.net/congreso2017/in
 dex.php?option=com_jem&view=event&id=472:haciendo-leche-que-es-de-todos-co
 ordinacion-sincronizacion-y-estandarizacion-de-vacas-y-personas-en-la-saba
 na-de-bogota
END:VEVENT
BEGIN:VEVENT
UID:event473@Congreso 2017
DTSTAMP:20260421T012524Z
CATEGORIES:Simposio: Relações Humano-Animal na Antropologia 
DESCRIPTION:Las Interacciones del coyote con los seres humanos y no humanos
  en Chihuahua\, México\nCategoría: Simposio: Relações Humano-Animal na Ant
 ropologia \nEnlace: https://www.asociacionlatinoamericanadeantropologia.ne
 t/congreso2017/index.php?option=com_jem&view=event&id=473:las-interaccione
 s-del-coyote-con-los-seres-humanos-y-no-humanos-en-chihuahua-mexico\n
DTSTART:20170608T160000Z
DTEND:20170608T180000Z
LOCATION:Edificio: 67 Salón: 503\,Universidad Javeriana\,Bogotá\,Colombia
SUMMARY:Las Interacciones del coyote con los seres humanos y no humanos en 
 Chihuahua\, México
URL:https://www.asociacionlatinoamericanadeantropologia.net/congreso2017/in
 dex.php?option=com_jem&view=event&id=473:las-interacciones-del-coyote-con-
 los-seres-humanos-y-no-humanos-en-chihuahua-mexico
END:VEVENT
BEGIN:VEVENT
UID:event474@Congreso 2017
DTSTAMP:20260421T012524Z
CATEGORIES:Simposio: Relações Humano-Animal na Antropologia 
DESCRIPTION:A relação entre humanos\, peixes e macacos no Ecoturismo de Bom
  Jardim-Mato Grosso.\nCategoría: Simposio: Relações Humano-Animal na Antro
 pologia \nEnlace: https://www.asociacionlatinoamericanadeantropologia.net/
 congreso2017/index.php?option=com_jem&view=event&id=474:a-relacao-entre-hu
 manos-peixes-e-macacos-no-ecoturismo-de-bom-jardim-mato-grosso\n
DTSTART:20170608T160000Z
DTEND:20170608T180000Z
LOCATION:Edificio: 67 Salón: 503\,Universidad Javeriana\,Bogotá\,Colombia
SUMMARY:A relação entre humanos\, peixes e macacos no Ecoturismo de Bom Jar
 dim-Mato Grosso.
URL:https://www.asociacionlatinoamericanadeantropologia.net/congreso2017/in
 dex.php?option=com_jem&view=event&id=474:a-relacao-entre-humanos-peixes-e-
 macacos-no-ecoturismo-de-bom-jardim-mato-grosso
END:VEVENT
END:VCALENDAR
