BEGIN:VCALENDAR
VERSION:2.0
PRODID:-//192.99.84.55//NONSGML kigkonsult.se iCalcreator 2.20//
CALSCALE:GREGORIAN
METHOD:PUBLISH
X-WR-TIMEZONE:UTC
BEGIN:VEVENT
UID:event456@Congreso 2017
DTSTAMP:20260421T012523Z
CATEGORIES:Simposio: Processos e efeitos da produção de conhecimentos reali
 zada por/com populações indígenas 
DESCRIPTION:Políticas públicas de patrimonialização e salvaguarda de bens c
 ulturais no Brasil e os povos indígenas: o caso das bonecas de cerâmica Ka
 rajá \nCategoría: Simposio: Processos e efeitos da produção de conheciment
 os realizada por/com populações indígenas \nEnlace: https://www.asociacion
 latinoamericanadeantropologia.net/congreso2017/index.php?option=com_jem&vi
 ew=event&id=456:politicas-publicas-de-patrimonializacao-e-salvaguarda-de-b
 ens-culturais-no-brasil-e-os-povos-indigenas-o-caso-das-bonecas-de-ceramic
 a-karaja\n
DTSTART:20170606T140000Z
DTEND:20170606T160000Z
LOCATION:Edificio: 02 Salón: 303\,Universidad Javeriana\,Bogotá\,Colombia
SUMMARY:Políticas públicas de patrimonialização e salvaguarda de bens cultu
 rais no Brasil e os povos indígenas: o caso das bonecas de cerâmica Karajá
  
URL:https://www.asociacionlatinoamericanadeantropologia.net/congreso2017/in
 dex.php?option=com_jem&view=event&id=456:politicas-publicas-de-patrimonial
 izacao-e-salvaguarda-de-bens-culturais-no-brasil-e-os-povos-indigenas-o-ca
 so-das-bonecas-de-ceramica-karaja
END:VEVENT
BEGIN:VEVENT
UID:event457@Congreso 2017
DTSTAMP:20260421T012523Z
CATEGORIES:Simposio: Processos e efeitos da produção de conhecimentos reali
 zada por/com populações indígenas 
DESCRIPTION:Festa como projeto: aproximações antropológicas às iniciativas 
 de fortalecimento cultural do Povo Indígena Krahô\nCategoría: Simposio: Pr
 ocessos e efeitos da produção de conhecimentos realizada por/com populaçõe
 s indígenas \nEnlace: https://www.asociacionlatinoamericanadeantropologia.
 net/congreso2017/index.php?option=com_jem&view=event&id=457:festa-como-pro
 jeto-aproximacoes-antropologicas-as-iniciativas-de-fortalecimento-cultural
 -do-povo-indigena-kraho\n
DTSTART:20170606T140000Z
DTEND:20170606T160000Z
LOCATION:Edificio: 02 Salón: 303\,Universidad Javeriana\,Bogotá\,Colombia
SUMMARY:Festa como projeto: aproximações antropológicas às iniciativas de f
 ortalecimento cultural do Povo Indígena Krahô
URL:https://www.asociacionlatinoamericanadeantropologia.net/congreso2017/in
 dex.php?option=com_jem&view=event&id=457:festa-como-projeto-aproximacoes-a
 ntropologicas-as-iniciativas-de-fortalecimento-cultural-do-povo-indigena-k
 raho
END:VEVENT
BEGIN:VEVENT
UID:event458@Congreso 2017
DTSTAMP:20260421T012523Z
CATEGORIES:Simposio: Processos e efeitos da produção de conhecimentos reali
 zada por/com populações indígenas 
DESCRIPTION:Estudantes indígenas nas universidades: sobre modos de conhecer
 \, de construir relações e de traduzir o conhecimento \nCategoría: Simposi
 o: Processos e efeitos da produção de conhecimentos realizada por/com popu
 lações indígenas \nEnlace: https://www.asociacionlatinoamericanadeantropol
 ogia.net/congreso2017/index.php?option=com_jem&view=event&id=458:estudante
 s-indigenas-nas-universidades-sobre-modos-de-conhecer-de-construir-relacoe
 s-e-de-traduzir-o-conhecimento\n
DTSTART:20170606T140000Z
DTEND:20170606T160000Z
LOCATION:Edificio: 02 Salón: 303\,Universidad Javeriana\,Bogotá\,Colombia
SUMMARY:Estudantes indígenas nas universidades: sobre modos de conhecer\, d
 e construir relações e de traduzir o conhecimento 
URL:https://www.asociacionlatinoamericanadeantropologia.net/congreso2017/in
 dex.php?option=com_jem&view=event&id=458:estudantes-indigenas-nas-universi
 dades-sobre-modos-de-conhecer-de-construir-relacoes-e-de-traduzir-o-conhec
 imento
END:VEVENT
BEGIN:VEVENT
UID:event459@Congreso 2017
DTSTAMP:20260421T012523Z
CATEGORIES:Simposio: Processos e efeitos da produção de conhecimentos reali
 zada por/com populações indígenas 
DESCRIPTION:O povo Akwê Xerente e suas escolas: diálogos entre a educação e
 scolar e os saberes tradicionais\nCategoría: Simposio: Processos e efeitos
  da produção de conhecimentos realizada por/com populações indígenas \nEnl
 ace: https://www.asociacionlatinoamericanadeantropologia.net/congreso2017/
 index.php?option=com_jem&view=event&id=459:o-povo-akwe-xerente-e-suas-esco
 las-dialogos-entre-a-educacao-escolar-e-os-saberes-tradicionais\n
DTSTART:20170606T140000Z
DTEND:20170606T160000Z
LOCATION:Edificio: 02 Salón: 303\,Universidad Javeriana\,Bogotá\,Colombia
SUMMARY:O povo Akwê Xerente e suas escolas: diálogos entre a educação escol
 ar e os saberes tradicionais
URL:https://www.asociacionlatinoamericanadeantropologia.net/congreso2017/in
 dex.php?option=com_jem&view=event&id=459:o-povo-akwe-xerente-e-suas-escola
 s-dialogos-entre-a-educacao-escolar-e-os-saberes-tradicionais
END:VEVENT
BEGIN:VEVENT
UID:event460@Congreso 2017
DTSTAMP:20260421T012523Z
CATEGORIES:Simposio: Processos e efeitos da produção de conhecimentos reali
 zada por/com populações indígenas 
DESCRIPTION:Processo\, produto e seus efeitos na materialização de saberes 
 indígenas na Serra da Lua\nCategoría: Simposio: Processos e efeitos da pro
 dução de conhecimentos realizada por/com populações indígenas \nEnlace: ht
 tps://www.asociacionlatinoamericanadeantropologia.net/congreso2017/index.p
 hp?option=com_jem&view=event&id=460:processo-produto-e-seus-efeitos-na-mat
 erializacao-de-saberes-indigenas-na-serra-da-lua\n
DTSTART:20170606T140000Z
DTEND:20170606T160000Z
LOCATION:Edificio: 02 Salón: 303\,Universidad Javeriana\,Bogotá\,Colombia
SUMMARY:Processo\, produto e seus efeitos na materialização de saberes indí
 genas na Serra da Lua
URL:https://www.asociacionlatinoamericanadeantropologia.net/congreso2017/in
 dex.php?option=com_jem&view=event&id=460:processo-produto-e-seus-efeitos-n
 a-materializacao-de-saberes-indigenas-na-serra-da-lua
END:VEVENT
BEGIN:VEVENT
UID:event461@Congreso 2017
DTSTAMP:20260421T012523Z
CATEGORIES:Simposio: Processos e efeitos da produção de conhecimentos reali
 zada por/com populações indígenas 
DESCRIPTION:“É bom que m'boguapy kuatiara”: reflexões sobre o livro colabor
 ativo com o casal Jorge e Floriza\nCategoría: Simposio: Processos e efeito
 s da produção de conhecimentos realizada por/com populações indígenas \nEn
 lace: https://www.asociacionlatinoamericanadeantropologia.net/congreso2017
 /index.php?option=com_jem&view=event&id=461:e-bom-que-m-boguapy-kuatiara-r
 eflexoes-sobre-o-livro-colaborativo-com-o-casal-jorge-e-floriza\n
DTSTART:20170606T140000Z
DTEND:20170606T160000Z
LOCATION:Edificio: 02 Salón: 303\,Universidad Javeriana\,Bogotá\,Colombia
SUMMARY:“É bom que m'boguapy kuatiara”: reflexões sobre o livro colaborativ
 o com o casal Jorge e Floriza
URL:https://www.asociacionlatinoamericanadeantropologia.net/congreso2017/in
 dex.php?option=com_jem&view=event&id=461:e-bom-que-m-boguapy-kuatiara-refl
 exoes-sobre-o-livro-colaborativo-com-o-casal-jorge-e-floriza
END:VEVENT
BEGIN:VEVENT
UID:event462@Congreso 2017
DTSTAMP:20260421T012523Z
CATEGORIES:Simposio: Processos e efeitos da produção de conhecimentos reali
 zada por/com populações indígenas 
DESCRIPTION:Interações munduruku no mundo virtual \nCategoría: Simposio: Pr
 ocessos e efeitos da produção de conhecimentos realizada por/com populaçõe
 s indígenas \nEnlace: https://www.asociacionlatinoamericanadeantropologia.
 net/congreso2017/index.php?option=com_jem&view=event&id=462:interacoes-mun
 duruku-no-mundo-virtual\n
DTSTART:20170606T140000Z
DTEND:20170606T160000Z
LOCATION:Edificio: 02 Salón: 303\,Universidad Javeriana\,Bogotá\,Colombia
SUMMARY:Interações munduruku no mundo virtual 
URL:https://www.asociacionlatinoamericanadeantropologia.net/congreso2017/in
 dex.php?option=com_jem&view=event&id=462:interacoes-munduruku-no-mundo-vir
 tual
END:VEVENT
BEGIN:VEVENT
UID:event46@Congreso 2017
DTSTAMP:20260421T012523Z
CATEGORIES:Simposio: Processos e efeitos da produção de conhecimentos reali
 zada por/com populações indígenas 
DESCRIPTION:Simposio: Processos e efeitos da produção de conhecimentos real
 izada por/com populações indígenas \nCategoría: Simposio: Processos e efei
 tos da produção de conhecimentos realizada por/com populações indígenas \n
 Enlace: https://www.asociacionlatinoamericanadeantropologia.net/congreso20
 17/index.php?option=com_jem&view=event&id=46:simposio-processos-e-efeitos-
 da-producao-de-conhecimentos-realizada-por-com-populacoes-indigenas\n
DTSTART:20170607T140000Z
DTEND:20170607T180000Z
LOCATION:Edificio: 67 Salón: 302\,Universidad Javeriana\,Colombia
SUMMARY:Simposio: Processos e efeitos da produção de conhecimentos realizad
 a por/com populações indígenas 
URL:https://www.asociacionlatinoamericanadeantropologia.net/congreso2017/in
 dex.php?option=com_jem&view=event&id=46:simposio-processos-e-efeitos-da-pr
 oducao-de-conhecimentos-realizada-por-com-populacoes-indigenas
END:VEVENT
END:VCALENDAR
