BEGIN:VCALENDAR
VERSION:2.0
PRODID:-//192.99.84.55//NONSGML kigkonsult.se iCalcreator 2.20//
CALSCALE:GREGORIAN
METHOD:PUBLISH
X-WR-TIMEZONE:UTC
BEGIN:VEVENT
UID:event39@Congreso 2017
DTSTAMP:20260420T235156Z
CATEGORIES: Mesa de trabajo: Diálogos nas Fronteiras: A Educação como objet
 o de investigação na Antropologia La
DESCRIPTION:Mesa de trabajo: Diálogos nas Fronteiras: A Educação como objet
 o de investigação na Antropologia Latino-americana \nCategoría:  Mesa de t
 rabajo: Diálogos nas Fronteiras: A Educação como objeto de investigação na
  Antropologia La\nEnlace: https://www.asociacionlatinoamericanadeantropolo
 gia.net/congreso2017/index.php?option=com_jem&view=event&id=39:mesa-de-tra
 bajo-dialogos-nas-fronteiras-a-educacao-como-objeto-de-investigacao-na-ant
 ropologia-latino-americana\n
DTSTART:20170607T160000Z
DTEND:20170607T180000Z
LOCATION:Edificio: 02 Salón: 303\,Universidad Javeriana\,Bogotá\,Colombia
SUMMARY:Mesa de trabajo: Diálogos nas Fronteiras: A Educação como objeto de
  investigação na Antropologia Latino-americana 
URL:https://www.asociacionlatinoamericanadeantropologia.net/congreso2017/in
 dex.php?option=com_jem&view=event&id=39:mesa-de-trabajo-dialogos-nas-front
 eiras-a-educacao-como-objeto-de-investigacao-na-antropologia-latino-americ
 ana
END:VEVENT
END:VCALENDAR
