BEGIN:VCALENDAR
VERSION:2.0
PRODID:-//192.99.84.55//NONSGML kigkonsult.se iCalcreator 2.20//
CALSCALE:GREGORIAN
METHOD:PUBLISH
X-WR-TIMEZONE:UTC
BEGIN:VEVENT
UID:event26@Congreso 2017
DTSTAMP:20260420T235040Z
CATEGORIES:Mesa de trabajo: Cuando la función pública es hacer investigació
 n. El caso del grupo de antropologia
DESCRIPTION:Mesa de trabajo: Cuando la función pública es hacer investigaci
 ón. El caso del grupo de antropologia social del ICANH I y II \nCategoría:
  Mesa de trabajo: Cuando la función pública es hacer investigación. El cas
 o del grupo de antropologia\nEnlace: https://www.asociacionlatinoamericana
 deantropologia.net/congreso2017/index.php?option=com_jem&view=event&id=26:
 mesa-de-trabajo-cuando-la-funcion-publica-es-hacer-investigacion-el-caso-d
 el-grupo-de-antropologia-social-del-icanh-i-y-ii\n
DTSTART:20170606T140000Z
DTEND:20170606T180000Z
LOCATION:Edificio: 02 Salón: 207\,Universidad Javeriana\,Bogotá\,Colombia
SUMMARY:Mesa de trabajo: Cuando la función pública es hacer investigación. 
 El caso del grupo de antropologia social del ICANH I y II 
URL:https://www.asociacionlatinoamericanadeantropologia.net/congreso2017/in
 dex.php?option=com_jem&view=event&id=26:mesa-de-trabajo-cuando-la-funcion-
 publica-es-hacer-investigacion-el-caso-del-grupo-de-antropologia-social-de
 l-icanh-i-y-ii
END:VEVENT
BEGIN:VEVENT
UID:event276@Congreso 2017
DTSTAMP:20260420T235040Z
CATEGORIES:Mesa de trabajo: Cuando la función pública es hacer investigació
 n. El caso del grupo de antropologia
DESCRIPTION:Desenterrar la memoria:  metodologías para recorrer los cemente
 rios\nCategoría: Mesa de trabajo: Cuando la función pública es hacer inves
 tigación. El caso del grupo de antropologia\nEnlace: https://www.asociacio
 nlatinoamericanadeantropologia.net/congreso2017/index.php?option=com_jem&v
 iew=event&id=276\n
DTSTART:20170609T090000Z
DTEND:20170609T110000Z
LOCATION:Edificio: 02 Salón: 307\,Universidad Javeriana\,Salón: 307 Bogotá\
 ,Colombia
SUMMARY:Desenterrar la memoria:  metodologías para recorrer los cementerios
URL:https://www.asociacionlatinoamericanadeantropologia.net/congreso2017/in
 dex.php?option=com_jem&view=event&id=276
END:VEVENT
BEGIN:VEVENT
UID:event277@Congreso 2017
DTSTAMP:20260420T235040Z
CATEGORIES:Mesa de trabajo: Cuando la función pública es hacer investigació
 n. El caso del grupo de antropologia
DESCRIPTION:Modelo para la identificación y análisis de traumatismos óseos 
 craneales por impacto de proyectil de arma de fuego\nCategoría: Mesa de tr
 abajo: Cuando la función pública es hacer investigación. El caso del grupo
  de antropologia\nEnlace: https://www.asociacionlatinoamericanadeantropolo
 gia.net/congreso2017/index.php?option=com_jem&view=event&id=277\n
DTSTART:20170609T090000Z
DTEND:20170609T110000Z
LOCATION:Edificio: 02 Salón: 307\,Universidad Javeriana\,Salón: 307 Bogotá\
 ,Colombia
SUMMARY:Modelo para la identificación y análisis de traumatismos óseos cran
 eales por impacto de proyectil de arma de fuego
URL:https://www.asociacionlatinoamericanadeantropologia.net/congreso2017/in
 dex.php?option=com_jem&view=event&id=277
END:VEVENT
BEGIN:VEVENT
UID:event278@Congreso 2017
DTSTAMP:20260420T235040Z
CATEGORIES:Mesa de trabajo: Cuando la función pública es hacer investigació
 n. El caso del grupo de antropologia
DESCRIPTION:Guía Latinoamericana de Buenas Prácticas para la Aplicación en 
 Antropología Forense \nCategoría: Mesa de trabajo: Cuando la función públi
 ca es hacer investigación. El caso del grupo de antropologia\nEnlace: http
 s://www.asociacionlatinoamericanadeantropologia.net/congreso2017/index.php
 ?option=com_jem&view=event&id=278\n
DTSTART:20170609T090000Z
DTEND:20170609T110000Z
LOCATION:Edificio: 02 Salón: 307\,Universidad Javeriana\,Salón: 307 Bogotá\
 ,Colombia
SUMMARY:Guía Latinoamericana de Buenas Prácticas para la Aplicación en Antr
 opología Forense 
URL:https://www.asociacionlatinoamericanadeantropologia.net/congreso2017/in
 dex.php?option=com_jem&view=event&id=278
END:VEVENT
BEGIN:VEVENT
UID:event279@Congreso 2017
DTSTAMP:20260420T235040Z
CATEGORIES:Mesa de trabajo: Cuando la función pública es hacer investigació
 n. El caso del grupo de antropologia
DESCRIPTION:Antropología forense\, legal o jurídica \nCategoría: Mesa de tr
 abajo: Cuando la función pública es hacer investigación. El caso del grupo
  de antropologia\nEnlace: https://www.asociacionlatinoamericanadeantropolo
 gia.net/congreso2017/index.php?option=com_jem&view=event&id=279\n
DTSTART:20170609T090000Z
DTEND:20170609T110000Z
LOCATION:Edificio: 02 Salón: 307\,Universidad Javeriana\,Salón: 307 Bogotá\
 ,Colombia
SUMMARY:Antropología forense\, legal o jurídica 
URL:https://www.asociacionlatinoamericanadeantropologia.net/congreso2017/in
 dex.php?option=com_jem&view=event&id=279
END:VEVENT
BEGIN:VEVENT
UID:event280@Congreso 2017
DTSTAMP:20260420T235040Z
CATEGORIES:Mesa de trabajo: Cuando la función pública es hacer investigació
 n. El caso del grupo de antropologia
DESCRIPTION:La antropología forense y la construcción de la verdad: la expe
 riencia de México \nCategoría: Mesa de trabajo: Cuando la función pública 
 es hacer investigación. El caso del grupo de antropologia\nEnlace: https:/
 /www.asociacionlatinoamericanadeantropologia.net/congreso2017/index.php?op
 tion=com_jem&view=event&id=280\n
DTSTART:20170609T110000Z
DTEND:20170609T130000Z
LOCATION:Edificio: 02 Salón: 307\,Universidad Javeriana\,Salón: 307 Bogotá\
 ,Colombia
SUMMARY:La antropología forense y la construcción de la verdad: la experien
 cia de México 
URL:https://www.asociacionlatinoamericanadeantropologia.net/congreso2017/in
 dex.php?option=com_jem&view=event&id=280
END:VEVENT
BEGIN:VEVENT
UID:event281@Congreso 2017
DTSTAMP:20260420T235040Z
CATEGORIES:Mesa de trabajo: Cuando la función pública es hacer investigació
 n. El caso del grupo de antropologia
DESCRIPTION:Violencia: desde la perspectiva de la arqueología forense \nCat
 egoría: Mesa de trabajo: Cuando la función pública es hacer investigación.
  El caso del grupo de antropologia\nEnlace: https://www.asociacionlatinoam
 ericanadeantropologia.net/congreso2017/index.php?option=com_jem&view=event
 &id=281\n
DTSTART:20170609T110000Z
DTEND:20170609T130000Z
LOCATION:Edificio: 02 Salón: 307\,Universidad Javeriana\,Salón: 307 Bogotá\
 ,Colombia
SUMMARY:Violencia: desde la perspectiva de la arqueología forense 
URL:https://www.asociacionlatinoamericanadeantropologia.net/congreso2017/in
 dex.php?option=com_jem&view=event&id=281
END:VEVENT
BEGIN:VEVENT
UID:event282@Congreso 2017
DTSTAMP:20260420T235040Z
CATEGORIES:Mesa de trabajo: Cuando la función pública es hacer investigació
 n. El caso del grupo de antropologia
DESCRIPTION:Los talleres del GIASF \nCategoría: Mesa de trabajo: Cuando la 
 función pública es hacer investigación. El caso del grupo de antropologia
 \nEnlace: https://www.asociacionlatinoamericanadeantropologia.net/congreso
 2017/index.php?option=com_jem&view=event&id=282\n
DTSTART:20170609T110000Z
DTEND:20170609T130000Z
LOCATION:Edificio: 02 Salón: 307\,Universidad Javeriana\,Salón: 307 Bogotá\
 ,Colombia
SUMMARY:Los talleres del GIASF 
URL:https://www.asociacionlatinoamericanadeantropologia.net/congreso2017/in
 dex.php?option=com_jem&view=event&id=282
END:VEVENT
BEGIN:VEVENT
UID:event283@Congreso 2017
DTSTAMP:20260420T235040Z
CATEGORIES:Mesa de trabajo: Cuando la función pública es hacer investigació
 n. El caso del grupo de antropologia
DESCRIPTION:La longevidad del silencio\, una impunidad indefinida: la ausen
 cia de los cuerpos \nCategoría: Mesa de trabajo: Cuando la función pública
  es hacer investigación. El caso del grupo de antropologia\nEnlace: https:
 //www.asociacionlatinoamericanadeantropologia.net/congreso2017/index.php?o
 ption=com_jem&view=event&id=283\n
DTSTART:20170609T110000Z
DTEND:20170609T130000Z
LOCATION:Edificio: 02 Salón: 307\,Universidad Javeriana\,Salón: 307 Bogotá\
 ,Colombia
SUMMARY:La longevidad del silencio\, una impunidad indefinida: la ausencia 
 de los cuerpos 
URL:https://www.asociacionlatinoamericanadeantropologia.net/congreso2017/in
 dex.php?option=com_jem&view=event&id=283
END:VEVENT
END:VCALENDAR
