BEGIN:VCALENDAR
VERSION:2.0
PRODID:-//192.99.84.55//NONSGML kigkonsult.se iCalcreator 2.20//
CALSCALE:GREGORIAN
METHOD:PUBLISH
X-WR-TIMEZONE:UTC
BEGIN:VEVENT
UID:event25@Congreso 2017
DTSTAMP:20260420T235041Z
CATEGORIES:Mesa de trabajo: Asociatividad rural y crédito asociativo: diseñ
 ando política pública desde la antro
DESCRIPTION:Mesa de trabajo: Asociatividad rural y crédito asociativo: dise
 ñando política pública desde la antropología económica \nCategoría: Mesa d
 e trabajo: Asociatividad rural y crédito asociativo: diseñando política pú
 blica desde la antro\nEnlace: https://www.asociacionlatinoamericanadeantro
 pologia.net/congreso2017/index.php?option=com_jem&view=event&id=25:mesa-de
 -trabajo-asociatividad-rural-y-credito-asociativo-disenando-politica-publi
 ca-desde-la-antropologia-economica\n
DTSTART:20170608T090000Z
DTEND:20170608T110000Z
LOCATION:Edificio: 02 Salón: 408\,Universidad Javeriana\,Bogotá\,Colombia
SUMMARY:Mesa de trabajo: Asociatividad rural y crédito asociativo: diseñand
 o política pública desde la antropología económica 
URL:https://www.asociacionlatinoamericanadeantropologia.net/congreso2017/in
 dex.php?option=com_jem&view=event&id=25:mesa-de-trabajo-asociatividad-rura
 l-y-credito-asociativo-disenando-politica-publica-desde-la-antropologia-ec
 onomica
END:VEVENT
END:VCALENDAR
