BEGIN:VCALENDAR
VERSION:2.0
PRODID:-//192.99.84.55//NONSGML kigkonsult.se iCalcreator 2.20//
CALSCALE:GREGORIAN
METHOD:PUBLISH
X-WR-TIMEZONE:UTC
BEGIN:VEVENT
UID:event257@Congreso 2017
DTSTAMP:20260420T235040Z
CATEGORIES:Mesa de trabajo: Aproximaciones Antropológicas al Campo de las P
 olíticas Públicas
DESCRIPTION:Moralidades\, insultos e noções de justiça a partir da repercus
 são do “caso Amarildo”.   \nCategoría: Mesa de trabajo: Aproximaciones Ant
 ropológicas al Campo de las Políticas Públicas\nEnlace: https://www.asocia
 cionlatinoamericanadeantropologia.net/congreso2017/index.php?option=com_je
 m&view=event&id=257\n
DTSTART:20170608T090000Z
DTEND:20170608T110000Z
LOCATION:Edificio: 67 Salón: 203\,Universidad Javeriana\,Bogotá\,Colombia
SUMMARY:Moralidades\, insultos e noções de justiça a partir da repercussão 
 do “caso Amarildo”.   
URL:https://www.asociacionlatinoamericanadeantropologia.net/congreso2017/in
 dex.php?option=com_jem&view=event&id=257
END:VEVENT
BEGIN:VEVENT
UID:event258@Congreso 2017
DTSTAMP:20260420T235040Z
CATEGORIES:Mesa de trabajo: Aproximaciones Antropológicas al Campo de las P
 olíticas Públicas
DESCRIPTION:A mulher bandida: sua identidade\, resistência e sujeição. \nCa
 tegoría: Mesa de trabajo: Aproximaciones Antropológicas al Campo de las Po
 líticas Públicas\nEnlace: https://www.asociacionlatinoamericanadeantropolo
 gia.net/congreso2017/index.php?option=com_jem&view=event&id=258\n
DTSTART:20170608T090000Z
DTEND:20170608T110000Z
LOCATION:Edificio: 67 Salón: 203\,Universidad Javeriana\,Bogotá\,Colombia
SUMMARY:A mulher bandida: sua identidade\, resistência e sujeição. 
URL:https://www.asociacionlatinoamericanadeantropologia.net/congreso2017/in
 dex.php?option=com_jem&view=event&id=258
END:VEVENT
BEGIN:VEVENT
UID:event259@Congreso 2017
DTSTAMP:20260420T235040Z
CATEGORIES:Mesa de trabajo: Aproximaciones Antropológicas al Campo de las P
 olíticas Públicas
DESCRIPTION:Tempo e espaço na pesquisa sobre o controle social de jovens no
  Brasil: etnografando prontuários de internos nos anos 1930\nCategoría: Me
 sa de trabajo: Aproximaciones Antropológicas al Campo de las Políticas Púb
 licas\nEnlace: https://www.asociacionlatinoamericanadeantropologia.net/con
 greso2017/index.php?option=com_jem&view=event&id=259\n
DTSTART:20170608T090000Z
DTEND:20170608T110000Z
LOCATION:Edificio: 67 Salón: 203\,Universidad Javeriana\,Bogotá\,Colombia
SUMMARY:Tempo e espaço na pesquisa sobre o controle social de jovens no Bra
 sil: etnografando prontuários de internos nos anos 1930
URL:https://www.asociacionlatinoamericanadeantropologia.net/congreso2017/in
 dex.php?option=com_jem&view=event&id=259
END:VEVENT
BEGIN:VEVENT
UID:event261@Congreso 2017
DTSTAMP:20260420T235040Z
CATEGORIES:Mesa de trabajo: Aproximaciones Antropológicas al Campo de las P
 olíticas Públicas
DESCRIPTION:Audiências de custódia: as violências das prisões em flagrante 
 em São Paulo \nCategoría: Mesa de trabajo: Aproximaciones Antropológicas a
 l Campo de las Políticas Públicas\nEnlace: https://www.asociacionlatinoame
 ricanadeantropologia.net/congreso2017/index.php?option=com_jem&view=event&
 id=261\n
DTSTART:20170608T110000Z
DTEND:20170608T130000Z
LOCATION:Edificio: 67 Salón: 203\,Universidad Javeriana\,Bogotá\,Colombia
SUMMARY:Audiências de custódia: as violências das prisões em flagrante em S
 ão Paulo 
URL:https://www.asociacionlatinoamericanadeantropologia.net/congreso2017/in
 dex.php?option=com_jem&view=event&id=261
END:VEVENT
BEGIN:VEVENT
UID:event262@Congreso 2017
DTSTAMP:20260420T235040Z
CATEGORIES:Mesa de trabajo: Aproximaciones Antropológicas al Campo de las P
 olíticas Públicas
DESCRIPTION:Defensoria Pública do Estado de São Paulo: uma análise dos sent
 idos de ativismo entre defensores(as) \nCategoría: Mesa de trabajo: Aproxi
 maciones Antropológicas al Campo de las Políticas Públicas\nEnlace: https:
 //www.asociacionlatinoamericanadeantropologia.net/congreso2017/index.php?o
 ption=com_jem&view=event&id=262\n
DTSTART:20170608T110000Z
DTEND:20170608T130000Z
LOCATION:Edificio: 67 Salón: 203\,Universidad Javeriana\,Bogotá\,Colombia
SUMMARY:Defensoria Pública do Estado de São Paulo: uma análise dos sentidos
  de ativismo entre defensores(as) 
URL:https://www.asociacionlatinoamericanadeantropologia.net/congreso2017/in
 dex.php?option=com_jem&view=event&id=262
END:VEVENT
BEGIN:VEVENT
UID:event263@Congreso 2017
DTSTAMP:20260420T235040Z
CATEGORIES:Mesa de trabajo: Aproximaciones Antropológicas al Campo de las P
 olíticas Públicas
DESCRIPTION:De chamba en chamba\, o el espacio y la economía del contraband
 o en el espacio fronterizo de Arica-Tacna \nCategoría: Mesa de trabajo: Ap
 roximaciones Antropológicas al Campo de las Políticas Públicas\nEnlace: ht
 tps://www.asociacionlatinoamericanadeantropologia.net/congreso2017/index.p
 hp?option=com_jem&view=event&id=263\n
DTSTART:20170608T110000Z
DTEND:20170608T130000Z
LOCATION:Edificio: 67 Salón: 203\,Universidad Javeriana\,Bogotá\,Colombia
SUMMARY:De chamba en chamba\, o el espacio y la economía del contrabando en
  el espacio fronterizo de Arica-Tacna 
URL:https://www.asociacionlatinoamericanadeantropologia.net/congreso2017/in
 dex.php?option=com_jem&view=event&id=263
END:VEVENT
BEGIN:VEVENT
UID:event264@Congreso 2017
DTSTAMP:20260420T235040Z
CATEGORIES:Mesa de trabajo: Aproximaciones Antropológicas al Campo de las P
 olíticas Públicas
DESCRIPTION:Gatas Preas: poesias e histórias de mulheres em situação de cár
 cere. \nCategoría: Mesa de trabajo: Aproximaciones Antropológicas al Campo
  de las Políticas Públicas\nEnlace: https://www.asociacionlatinoamericanad
 eantropologia.net/congreso2017/index.php?option=com_jem&view=event&id=264
 \n
DTSTART:20170608T140000Z
DTEND:20170608T160000Z
LOCATION:Edificio: 67 Salón: 203\,Universidad Javeriana\,Bogotá\,Colombia
SUMMARY:Gatas Preas: poesias e histórias de mulheres em situação de cárcere
 . 
URL:https://www.asociacionlatinoamericanadeantropologia.net/congreso2017/in
 dex.php?option=com_jem&view=event&id=264
END:VEVENT
BEGIN:VEVENT
UID:event265@Congreso 2017
DTSTAMP:20260420T235040Z
CATEGORIES:Mesa de trabajo: Aproximaciones Antropológicas al Campo de las P
 olíticas Públicas
DESCRIPTION:Moralidades encerradas. Un analisis de entramados morales en un
  penal de hombres en San Carlos de Bariloche (Río Negro\, Argentina)\nCate
 goría: Mesa de trabajo: Aproximaciones Antropológicas al Campo de las Polí
 ticas Públicas\nEnlace: https://www.asociacionlatinoamericanadeantropologi
 a.net/congreso2017/index.php?option=com_jem&view=event&id=265\n
DTSTART:20170608T140000Z
DTEND:20170608T160000Z
LOCATION:Edificio: 67 Salón: 203\,Universidad Javeriana\,Bogotá\,Colombia
SUMMARY:Moralidades encerradas. Un analisis de entramados morales en un pen
 al de hombres en San Carlos de Bariloche (Río Negro\, Argentina)
URL:https://www.asociacionlatinoamericanadeantropologia.net/congreso2017/in
 dex.php?option=com_jem&view=event&id=265
END:VEVENT
BEGIN:VEVENT
UID:event266@Congreso 2017
DTSTAMP:20260420T235040Z
CATEGORIES:Mesa de trabajo: Aproximaciones Antropológicas al Campo de las P
 olíticas Públicas
DESCRIPTION:El discurso de la 'dulce violencia contra la mujer' frente al d
 elito de violación en la dogmática penal de Colombia y de América Latina. 
  \nCategoría: Mesa de trabajo: Aproximaciones Antropológicas al Campo de l
 as Políticas Públicas\nEnlace: https://www.asociacionlatinoamericanadeantr
 opologia.net/congreso2017/index.php?option=com_jem&view=event&id=266\n
DTSTART:20170608T140000Z
DTEND:20170608T160000Z
LOCATION:Edificio: 67 Salón: 203\,Universidad Javeriana\,Bogotá\,Colombia
SUMMARY:El discurso de la 'dulce violencia contra la mujer' frente al delit
 o de violación en la dogmática penal de Colombia y de América Latina.  
URL:https://www.asociacionlatinoamericanadeantropologia.net/congreso2017/in
 dex.php?option=com_jem&view=event&id=266
END:VEVENT
BEGIN:VEVENT
UID:event267@Congreso 2017
DTSTAMP:20260420T235040Z
CATEGORIES:Mesa de trabajo: Aproximaciones Antropológicas al Campo de las P
 olíticas Públicas
DESCRIPTION:Entre “instituição indígena” e “milícia”\, de “guarda indígena”
  a “polícia de mentira”: interpretações inter e intra-étnicas e suas artic
 ulações em relação a uma experiência de policiamento indígena pataxó\nCate
 goría: Mesa de trabajo: Aproximaciones Antropológicas al Campo de las Polí
 ticas Públicas\nEnlace: https://www.asociacionlatinoamericanadeantropologi
 a.net/congreso2017/index.php?option=com_jem&view=event&id=267\n
DTSTART:20170608T140000Z
DTEND:20170608T160000Z
LOCATION:Edificio: 67 Salón: 203\,Universidad Javeriana\,Bogotá\,Colombia
SUMMARY:Entre “instituição indígena” e “milícia”\, de “guarda indígena” a “
 polícia de mentira”: interpretações inter e intra-étnicas e suas articulaç
 ões em relação a uma experiência de policiamento indígena pataxó
URL:https://www.asociacionlatinoamericanadeantropologia.net/congreso2017/in
 dex.php?option=com_jem&view=event&id=267
END:VEVENT
BEGIN:VEVENT
UID:event24@Congreso 2017
DTSTAMP:20260420T235040Z
CATEGORIES:Mesa de trabajo: Aproximaciones Antropológicas al Campo de las P
 olíticas Públicas
DESCRIPTION:Mesa de trabajo: Aproximaciones Antropológicas al Campo de las 
 Políticas Públicas \nCategoría: Mesa de trabajo: Aproximaciones Antropológ
 icas al Campo de las Políticas Públicas\nEnlace: https://www.asociacionlat
 inoamericanadeantropologia.net/congreso2017/index.php?option=com_jem&view=
 event&id=24:mesa-de-trabajo-aproximaciones-antropologicas-al-campo-de-las-
 politicas-publicas\n
DTSTART:20170609T090000Z
DTEND:20170609T130000Z
LOCATION:Edificio: 02 Salón: 301\,Universidad Javeriana\,Bogotá\,Colombia
SUMMARY:Mesa de trabajo: Aproximaciones Antropológicas al Campo de las Polí
 ticas Públicas 
URL:https://www.asociacionlatinoamericanadeantropologia.net/congreso2017/in
 dex.php?option=com_jem&view=event&id=24:mesa-de-trabajo-aproximaciones-ant
 ropologicas-al-campo-de-las-politicas-publicas
END:VEVENT
END:VCALENDAR
