BEGIN:VCALENDAR
VERSION:2.0
PRODID:-//192.99.84.55//NONSGML kigkonsult.se iCalcreator 2.20//
CALSCALE:GREGORIAN
METHOD:PUBLISH
X-WR-TIMEZONE:UTC
BEGIN:VEVENT
UID:event11@Congreso 2017
DTSTAMP:20260420T195702Z
CATEGORIES: Simposio: Campo\, archivo y escritura: (in) disciplinar la inve
 stigación
DESCRIPTION:Simposio: Campo\, archivo y escritura: (in) disciplinar la inve
 stigación\nCategoría:  Simposio: Campo\, archivo y escritura: (in) discipl
 inar la investigación\nEnlace: https://www.asociacionlatinoamericanadeantr
 opologia.net/congreso2017/index.php?option=com_jem&view=event&id=11:simpos
 io-campo-archivo-y-escritura-in-disciplinar-la-investigacion\n
DTSTART:20170606T140000Z
DTEND:20170607T110000Z
LOCATION:Edificio: 67 Salón: 411\,Universidad Javeriana\,Salón: 411 Bogotá\
 ,Colombia
SUMMARY:Simposio: Campo\, archivo y escritura: (in) disciplinar la investig
 ación
URL:https://www.asociacionlatinoamericanadeantropologia.net/congreso2017/in
 dex.php?option=com_jem&view=event&id=11:simposio-campo-archivo-y-escritura
 -in-disciplinar-la-investigacion
END:VEVENT
BEGIN:VEVENT
UID:event95@Congreso 2017
DTSTAMP:20260420T195702Z
CATEGORIES: Simposio: Campo\, archivo y escritura: (in) disciplinar la inve
 stigación
DESCRIPTION:Tejiendo pasados\, tejiendo futuros: Entre lienzos\, memoria y 
 etnografía en la Sierra Norte de Oaxaca\nCategoría:  Simposio: Campo\, arc
 hivo y escritura: (in) disciplinar la investigación\nEnlace: https://www.a
 sociacionlatinoamericanadeantropologia.net/congreso2017/index.php?option=c
 om_jem&view=event&id=95:tejiendo-pasados-tejiendo-futuros-entre-lienzos-me
 moria-y-etnografia-en-la-sierra-norte-de-oaxaca\n
DTSTART:20170606T140000Z
DTEND:20170606T160000Z
LOCATION:Edificio: 67 Salón: 411\,Universidad Javeriana\,Salón: 411 Bogotá\
 ,Colombia
SUMMARY:Tejiendo pasados\, tejiendo futuros: Entre lienzos\, memoria y etno
 grafía en la Sierra Norte de Oaxaca
URL:https://www.asociacionlatinoamericanadeantropologia.net/congreso2017/in
 dex.php?option=com_jem&view=event&id=95:tejiendo-pasados-tejiendo-futuros-
 entre-lienzos-memoria-y-etnografia-en-la-sierra-norte-de-oaxaca
END:VEVENT
BEGIN:VEVENT
UID:event96@Congreso 2017
DTSTAMP:20260420T195702Z
CATEGORIES: Simposio: Campo\, archivo y escritura: (in) disciplinar la inve
 stigación
DESCRIPTION:El lugar del trazo. Incorporaciones del archivo rupestre de la 
 Patagonia\nCategoría:  Simposio: Campo\, archivo y escritura: (in) discipl
 inar la investigación\nEnlace: https://www.asociacionlatinoamericanadeantr
 opologia.net/congreso2017/index.php?option=com_jem&view=event&id=96:el-lug
 ar-del-trazo-incorporaciones-del-archivo-rupestre-de-la-patagonia\n
DTSTART:20170606T140000Z
DTEND:20170606T160000Z
LOCATION:Edificio: 67 Salón: 411\,Universidad Javeriana\,Salón: 411 Bogotá\
 ,Colombia
SUMMARY:El lugar del trazo. Incorporaciones del archivo rupestre de la Pata
 gonia
URL:https://www.asociacionlatinoamericanadeantropologia.net/congreso2017/in
 dex.php?option=com_jem&view=event&id=96:el-lugar-del-trazo-incorporaciones
 -del-archivo-rupestre-de-la-patagonia
END:VEVENT
BEGIN:VEVENT
UID:event98@Congreso 2017
DTSTAMP:20260420T195702Z
CATEGORIES: Simposio: Campo\, archivo y escritura: (in) disciplinar la inve
 stigación
DESCRIPTION:Estados alterados: La etnografía y lo siniestro\nCategoría:  Si
 mposio: Campo\, archivo y escritura: (in) disciplinar la investigación\nEn
 lace: https://www.asociacionlatinoamericanadeantropologia.net/congreso2017
 /index.php?option=com_jem&view=event&id=98:estados-alterados-la-etnografia
 -y-lo-siniestro\n
DTSTART:20170606T140000Z
DTEND:20170606T160000Z
LOCATION:Edificio: 67 Salón: 411\,Universidad Javeriana\,Salón: 411 Bogotá\
 ,Colombia
SUMMARY:Estados alterados: La etnografía y lo siniestro
URL:https://www.asociacionlatinoamericanadeantropologia.net/congreso2017/in
 dex.php?option=com_jem&view=event&id=98:estados-alterados-la-etnografia-y-
 lo-siniestro
END:VEVENT
BEGIN:VEVENT
UID:event102@Congreso 2017
DTSTAMP:20260420T195702Z
CATEGORIES: Simposio: Campo\, archivo y escritura: (in) disciplinar la inve
 stigación
DESCRIPTION:Entre a memória oral e os arquivos: elementos para uma etnograf
 ia histórica do processo de disposição espacial Tupi\nCategoría:  Simposio
 : Campo\, archivo y escritura: (in) disciplinar la investigación\nEnlace: 
 https://www.asociacionlatinoamericanadeantropologia.net/congreso2017/index
 .php?option=com_jem&view=event&id=102:entre-a-memoria-oral-e-os-arquivos-e
 lementos-para-uma-etnografia-historica-do-processo-de-disposicao-espacial-
 tupi\n
DTSTART:20170606T140000Z
DTEND:20170606T160000Z
LOCATION:Edificio: 67 Salón: 411\,Universidad Javeriana\,Salón: 411 Bogotá\
 ,Colombia
SUMMARY:Entre a memória oral e os arquivos: elementos para uma etnografia h
 istórica do processo de disposição espacial Tupi
URL:https://www.asociacionlatinoamericanadeantropologia.net/congreso2017/in
 dex.php?option=com_jem&view=event&id=102:entre-a-memoria-oral-e-os-arquivo
 s-elementos-para-uma-etnografia-historica-do-processo-de-disposicao-espaci
 al-tupi
END:VEVENT
BEGIN:VEVENT
UID:event99@Congreso 2017
DTSTAMP:20260420T195702Z
CATEGORIES: Simposio: Campo\, archivo y escritura: (in) disciplinar la inve
 stigación
DESCRIPTION:Fotografia\, arquivo e memória: questões sobre materialidade e 
 colonialismo nas imagens de Ricardo Rangel\, \nCategoría:  Simposio: Campo
 \, archivo y escritura: (in) disciplinar la investigación\nEnlace: https:/
 /www.asociacionlatinoamericanadeantropologia.net/congreso2017/index.php?op
 tion=com_jem&view=event&id=99:fotografia-arquivo-e-memoria-questoes-sobre-
 materialidade-e-colonialismo-nas-imagens-de-ricardo-rangel\n
DTSTART:20170606T160000Z
DTEND:20170606T180000Z
LOCATION:Edificio: 67 Salón: 411\,Universidad Javeriana\,Salón: 411 Bogotá\
 ,Colombia
SUMMARY:Fotografia\, arquivo e memória: questões sobre materialidade e colo
 nialismo nas imagens de Ricardo Rangel\, 
URL:https://www.asociacionlatinoamericanadeantropologia.net/congreso2017/in
 dex.php?option=com_jem&view=event&id=99:fotografia-arquivo-e-memoria-quest
 oes-sobre-materialidade-e-colonialismo-nas-imagens-de-ricardo-rangel
END:VEVENT
BEGIN:VEVENT
UID:event101@Congreso 2017
DTSTAMP:20260420T195702Z
CATEGORIES: Simposio: Campo\, archivo y escritura: (in) disciplinar la inve
 stigación
DESCRIPTION:Figuras del mestizaje en la formación de la antropología y la h
 istoriografía en México\nCategoría:  Simposio: Campo\, archivo y escritura
 : (in) disciplinar la investigación\nEnlace: https://www.asociacionlatinoa
 mericanadeantropologia.net/congreso2017/index.php?option=com_jem&view=even
 t&id=101:figuras-del-mestizaje-en-la-formacion-de-la-antropologia-y-la-his
 toriografia-en-mexico\n
DTSTART:20170606T160000Z
DTEND:20170606T180000Z
LOCATION:Edificio: 67 Salón: 411\,Universidad Javeriana\,Salón: 411 Bogotá\
 ,Colombia
SUMMARY:Figuras del mestizaje en la formación de la antropología y la histo
 riografía en México
URL:https://www.asociacionlatinoamericanadeantropologia.net/congreso2017/in
 dex.php?option=com_jem&view=event&id=101:figuras-del-mestizaje-en-la-forma
 cion-de-la-antropologia-y-la-historiografia-en-mexico
END:VEVENT
BEGIN:VEVENT
UID:event104@Congreso 2017
DTSTAMP:20260420T195702Z
CATEGORIES: Simposio: Campo\, archivo y escritura: (in) disciplinar la inve
 stigación
DESCRIPTION:Etnografías en movimiento\, reflexiones catalejo sobre escenari
 os migratorios patagónicos de Argentina y Chile\nCategoría:  Simposio: Cam
 po\, archivo y escritura: (in) disciplinar la investigación\nEnlace: https
 ://www.asociacionlatinoamericanadeantropologia.net/congreso2017/index.php?
 option=com_jem&view=event&id=104:etnografias-en-movimiento-reflexiones-cat
 alejo-sobre-escenarios-migratorios-patagonicos-de-argentina-y-chile\n
DTSTART:20170607T090000Z
DTEND:20170607T110000Z
LOCATION:Edificio: 67 Salón: 411\,Universidad Javeriana\,Salón: 411 Bogotá\
 ,Colombia
SUMMARY:Etnografías en movimiento\, reflexiones catalejo sobre escenarios m
 igratorios patagónicos de Argentina y Chile
URL:https://www.asociacionlatinoamericanadeantropologia.net/congreso2017/in
 dex.php?option=com_jem&view=event&id=104:etnografias-en-movimiento-reflexi
 ones-catalejo-sobre-escenarios-migratorios-patagonicos-de-argentina-y-chil
 e
END:VEVENT
BEGIN:VEVENT
UID:event105@Congreso 2017
DTSTAMP:20260420T195702Z
CATEGORIES: Simposio: Campo\, archivo y escritura: (in) disciplinar la inve
 stigación
DESCRIPTION:El archivo y el campo: reflexiones en torno a la historiografía
  mexicana\nCategoría:  Simposio: Campo\, archivo y escritura: (in) discipl
 inar la investigación\nEnlace: https://www.asociacionlatinoamericanadeantr
 opologia.net/congreso2017/index.php?option=com_jem&view=event&id=105:el-ar
 chivo-y-el-campo-reflexiones-en-torno-a-la-historiografia-mexicana\n
DTSTART:20170607T090000Z
DTEND:20170607T110000Z
LOCATION:Edificio: 67 Salón: 411\,Universidad Javeriana\,Salón: 411 Bogotá\
 ,Colombia
SUMMARY:El archivo y el campo: reflexiones en torno a la historiografía mex
 icana
URL:https://www.asociacionlatinoamericanadeantropologia.net/congreso2017/in
 dex.php?option=com_jem&view=event&id=105:el-archivo-y-el-campo-reflexiones
 -en-torno-a-la-historiografia-mexicana
END:VEVENT
BEGIN:VEVENT
UID:event107@Congreso 2017
DTSTAMP:20260420T195702Z
CATEGORIES: Simposio: Campo\, archivo y escritura: (in) disciplinar la inve
 stigación
DESCRIPTION:La “magia” del archivo: sobre relatos de pérdida\nCategoría:  S
 imposio: Campo\, archivo y escritura: (in) disciplinar la investigación\nE
 nlace: https://www.asociacionlatinoamericanadeantropologia.net/congreso201
 7/index.php?option=com_jem&view=event&id=107:la-magia-del-archivo-sobre-re
 latos-de-perdida\n
DTSTART:20170607T090000Z
DTEND:20170607T110000Z
LOCATION:Edificio: 67 Salón: 411\,Universidad Javeriana\,Salón: 411 Bogotá\
 ,Colombia
SUMMARY:La “magia” del archivo: sobre relatos de pérdida
URL:https://www.asociacionlatinoamericanadeantropologia.net/congreso2017/in
 dex.php?option=com_jem&view=event&id=107:la-magia-del-archivo-sobre-relato
 s-de-perdida
END:VEVENT
BEGIN:VEVENT
UID:event111@Congreso 2017
DTSTAMP:20260420T195702Z
CATEGORIES: Simposio: Campo\, archivo y escritura: (in) disciplinar la inve
 stigación
DESCRIPTION:Despatriarcalización: la emergencia del feminismo mapuche y su 
 vinculación con la decolonización latinoamericana\nCategoría:  Simposio: C
 ampo\, archivo y escritura: (in) disciplinar la investigación\nEnlace: htt
 ps://www.asociacionlatinoamericanadeantropologia.net/congreso2017/index.ph
 p?option=com_jem&view=event&id=111:despatriarcalizacion-la-emergencia-del-
 feminismo-mapuche-y-su-vinculacion-con-la-decolonizacion-latinoamericana\n
DTSTART:20170608T110000Z
DTEND:20170608T130000Z
LOCATION:Edificio: 02 Salón: 207\,Universidad Javeriana\,Bogotá\,Colombia
SUMMARY:Despatriarcalización: la emergencia del feminismo mapuche y su vinc
 ulación con la decolonización latinoamericana
URL:https://www.asociacionlatinoamericanadeantropologia.net/congreso2017/in
 dex.php?option=com_jem&view=event&id=111:despatriarcalizacion-la-emergenci
 a-del-feminismo-mapuche-y-su-vinculacion-con-la-decolonizacion-latinoameri
 cana
END:VEVENT
BEGIN:VEVENT
UID:event1671@Congreso 2017
DTSTAMP:20260420T195702Z
CATEGORIES: Simposio: Campo\, archivo y escritura: (in) disciplinar la inve
 stigación
DESCRIPTION:Horas Extra \nCategoría:  Simposio: Campo\, archivo y escritura
 : (in) disciplinar la investigación\nEnlace: https://www.asociacionlatinoa
 mericanadeantropologia.net/congreso2017/index.php?option=com_jem&view=even
 t&id=1671:horas-extra\n
DTSTART:20170608T150000Z
DTEND:20170608T155300Z
LOCATION:Auditorio Marino Troncoso\, Edificio Fernando Baron\,Universidad J
 averiana\,Colombia
SUMMARY:Horas Extra 
URL:https://www.asociacionlatinoamericanadeantropologia.net/congreso2017/in
 dex.php?option=com_jem&view=event&id=1671:horas-extra
END:VEVENT
END:VCALENDAR
