BEGIN:VCALENDAR
VERSION:2.0
PRODID:-//192.99.84.55//NONSGML kigkonsult.se iCalcreator 2.20//
CALSCALE:GREGORIAN
METHOD:PUBLISH
X-WR-TIMEZONE:UTC
BEGIN:VEVENT
UID:event1716@Congreso 2017
DTSTAMP:20260421T012523Z
CATEGORIES:Simposio: Desigualdad\, género y salud
DESCRIPTION:Simposio:  Desigualdad\, género y salud\nCategoría: Simposio: D
 esigualdad\, género y salud\nEnlace: https://www.asociacionlatinoamericana
 deantropologia.net/congreso2017/index.php?option=com_jem&view=event&id=171
 6:simposio-desigualdad-genero-y-salud\n
DTSTART:20170607T090000Z
DTEND:20170607T160000Z
LOCATION:Edificio: 02 Salón: 404\,Universidad Javeriana\,Bogotá\,Colombia
SUMMARY:Simposio:  Desigualdad\, género y salud
URL:https://www.asociacionlatinoamericanadeantropologia.net/congreso2017/in
 dex.php?option=com_jem&view=event&id=1716:simposio-desigualdad-genero-y-sa
 lud
END:VEVENT
BEGIN:VEVENT
UID:event1281@Congreso 2017
DTSTAMP:20260421T012523Z
CATEGORIES:Simposio: Desigualdad\, género y salud
DESCRIPTION:Cuerpos intervenidos\, desigualdades in-corporadas: violencia o
 bstétrica contra mujeres indigenas\nCategoría: Simposio: Desigualdad\, gén
 ero y salud\nEnlace: https://www.asociacionlatinoamericanadeantropologia.n
 et/congreso2017/index.php?option=com_jem&view=event&id=1281:cuerpos-interv
 enidos-desigualdades-in-corporadas-violencia-obstetrica-contra-mujeres-ind
 igenas\n
DTSTART:20170608T090000Z
DTEND:20170608T110000Z
LOCATION:Edificio: 02 Salón: 404\,Universidad Javeriana\,Bogotá\,Colombia
SUMMARY:Cuerpos intervenidos\, desigualdades in-corporadas: violencia obsté
 trica contra mujeres indigenas
URL:https://www.asociacionlatinoamericanadeantropologia.net/congreso2017/in
 dex.php?option=com_jem&view=event&id=1281:cuerpos-intervenidos-desigualdad
 es-in-corporadas-violencia-obstetrica-contra-mujeres-indigenas
END:VEVENT
BEGIN:VEVENT
UID:event1282@Congreso 2017
DTSTAMP:20260421T012523Z
CATEGORIES:Simposio: Desigualdad\, género y salud
DESCRIPTION:Muerte materna y desigualdad en Oaxaca\, México\nCategoría: Sim
 posio: Desigualdad\, género y salud\nEnlace: https://www.asociacionlatinoa
 mericanadeantropologia.net/congreso2017/index.php?option=com_jem&view=even
 t&id=1282:muerte-materna-y-desigualdad-en-oaxaca-mexico\n
DTSTART:20170608T090000Z
DTEND:20170608T110000Z
LOCATION:Edificio: 02 Salón: 404\,Universidad Javeriana\,Bogotá\,Colombia
SUMMARY:Muerte materna y desigualdad en Oaxaca\, México
URL:https://www.asociacionlatinoamericanadeantropologia.net/congreso2017/in
 dex.php?option=com_jem&view=event&id=1282:muerte-materna-y-desigualdad-en-
 oaxaca-mexico
END:VEVENT
BEGIN:VEVENT
UID:event1283@Congreso 2017
DTSTAMP:20260421T012523Z
CATEGORIES:Simposio: Desigualdad\, género y salud
DESCRIPTION:Dilemas da maternidade: assistência médica à partos na tríplice
  fronteira amazônica:\nCategoría: Simposio: Desigualdad\, género y salud\n
 Enlace: https://www.asociacionlatinoamericanadeantropologia.net/congreso20
 17/index.php?option=com_jem&view=event&id=1283:dilemas-da-maternidade-assi
 stencia-medica-a-partos-na-triplice-fronteira-amazonica\n
DTSTART:20170608T090000Z
DTEND:20170608T110000Z
LOCATION:Edificio: 02 Salón: 404\,Universidad Javeriana\,Bogotá\,Colombia
SUMMARY:Dilemas da maternidade: assistência médica à partos na tríplice fro
 nteira amazônica:
URL:https://www.asociacionlatinoamericanadeantropologia.net/congreso2017/in
 dex.php?option=com_jem&view=event&id=1283:dilemas-da-maternidade-assistenc
 ia-medica-a-partos-na-triplice-fronteira-amazonica
END:VEVENT
BEGIN:VEVENT
UID:event1284@Congreso 2017
DTSTAMP:20260421T012523Z
CATEGORIES:Simposio: Desigualdad\, género y salud
DESCRIPTION:Padecer la depresión como inmigrante mexicana en Nueva York\nCa
 tegoría: Simposio: Desigualdad\, género y salud\nEnlace: https://www.asoci
 acionlatinoamericanadeantropologia.net/congreso2017/index.php?option=com_j
 em&view=event&id=1284:padecer-la-depresion-como-inmigrante-mexicana-en-nue
 va-york\n
DTSTART:20170608T090000Z
DTEND:20170608T110000Z
LOCATION:Edificio: 02 Salón: 404\,Universidad Javeriana\,Bogotá\,Colombia
SUMMARY:Padecer la depresión como inmigrante mexicana en Nueva York
URL:https://www.asociacionlatinoamericanadeantropologia.net/congreso2017/in
 dex.php?option=com_jem&view=event&id=1284:padecer-la-depresion-como-inmigr
 ante-mexicana-en-nueva-york
END:VEVENT
BEGIN:VEVENT
UID:event1285@Congreso 2017
DTSTAMP:20260421T012523Z
CATEGORIES:Simposio: Desigualdad\, género y salud
DESCRIPTION:La construcción del dato comunitario para entender desigualdade
 s en la frontera Guatemala- México\nCategoría: Simposio: Desigualdad\, gén
 ero y salud\nEnlace: https://www.asociacionlatinoamericanadeantropologia.n
 et/congreso2017/index.php?option=com_jem&view=event&id=1285:la-construccio
 n-del-dato-comunitario-para-entender-desigualdades-en-la-frontera-guatemal
 a-mexico\n
DTSTART:20170608T090000Z
DTEND:20170608T110000Z
LOCATION:Edificio: 02 Salón: 404\,Universidad Javeriana\,Bogotá\,Colombia
SUMMARY:La construcción del dato comunitario para entender desigualdades en
  la frontera Guatemala- México
URL:https://www.asociacionlatinoamericanadeantropologia.net/congreso2017/in
 dex.php?option=com_jem&view=event&id=1285:la-construccion-del-dato-comunit
 ario-para-entender-desigualdades-en-la-frontera-guatemala-mexico
END:VEVENT
BEGIN:VEVENT
UID:event1286@Congreso 2017
DTSTAMP:20260421T012523Z
CATEGORIES:Simposio: Desigualdad\, género y salud
DESCRIPTION:Derechos sexuales y reproductivos de jóvenes chilenos: Experien
 cias de prevención de embarazo adolescente en Santiago de Chile\nCategoría
 : Simposio: Desigualdad\, género y salud\nEnlace: https://www.asociacionla
 tinoamericanadeantropologia.net/congreso2017/index.php?option=com_jem&view
 =event&id=1286:derechos-sexuales-y-reproductivos-de-jovenes-chilenos-exper
 iencias-de-prevencion-de-embarazo-adolescente-en-santiago-de-chile\n
DTSTART:20170608T110000Z
DTEND:20170608T130000Z
LOCATION:Edificio: 02 Salón: 404\,Universidad Javeriana\,Bogotá\,Colombia
SUMMARY:Derechos sexuales y reproductivos de jóvenes chilenos: Experiencias
  de prevención de embarazo adolescente en Santiago de Chile
URL:https://www.asociacionlatinoamericanadeantropologia.net/congreso2017/in
 dex.php?option=com_jem&view=event&id=1286:derechos-sexuales-y-reproductivo
 s-de-jovenes-chilenos-experiencias-de-prevencion-de-embarazo-adolescente-e
 n-santiago-de-chile
END:VEVENT
BEGIN:VEVENT
UID:event1287@Congreso 2017
DTSTAMP:20260421T012523Z
CATEGORIES:Simposio: Desigualdad\, género y salud
DESCRIPTION:Género y desigualdad en la experiencia de la menstruación en ni
 ñas y adolescentes de comunidades rurales del pacífico colombiano.\nCatego
 ría: Simposio: Desigualdad\, género y salud\nEnlace: https://www.asociacio
 nlatinoamericanadeantropologia.net/congreso2017/index.php?option=com_jem&v
 iew=event&id=1287:genero-y-desigualdad-en-la-experiencia-de-la-menstruacio
 n-en-ninas-y-adolescentes-de-comunidades-rurales-del-pacifico-colombiano\n
DTSTART:20170608T110000Z
DTEND:20170608T130000Z
LOCATION:Edificio: 02 Salón: 404\,Universidad Javeriana\,Bogotá\,Colombia
SUMMARY:Género y desigualdad en la experiencia de la menstruación en niñas 
 y adolescentes de comunidades rurales del pacífico colombiano.
URL:https://www.asociacionlatinoamericanadeantropologia.net/congreso2017/in
 dex.php?option=com_jem&view=event&id=1287:genero-y-desigualdad-en-la-exper
 iencia-de-la-menstruacion-en-ninas-y-adolescentes-de-comunidades-rurales-d
 el-pacifico-colombiano
END:VEVENT
BEGIN:VEVENT
UID:event1288@Congreso 2017
DTSTAMP:20260421T012523Z
CATEGORIES:Simposio: Desigualdad\, género y salud
DESCRIPTION:Trayectoria de una joven reclusa en una institución penitenciar
 ia de menores en Medellín Colombia\, en relación con el consumo de drogas.
 \nCategoría: Simposio: Desigualdad\, género y salud\nEnlace: https://www.a
 sociacionlatinoamericanadeantropologia.net/congreso2017/index.php?option=c
 om_jem&view=event&id=1288:trayectoria-de-una-joven-reclusa-en-una-instituc
 ion-penitenciaria-de-menores-en-medellin-colombia-en-relacion-con-el-consu
 mo-de-drogas\n
DTSTART:20170608T110000Z
DTEND:20170608T130000Z
LOCATION:Edificio: 02 Salón: 404\,Universidad Javeriana\,Bogotá\,Colombia
SUMMARY:Trayectoria de una joven reclusa en una institución penitenciaria d
 e menores en Medellín Colombia\, en relación con el consumo de drogas.
URL:https://www.asociacionlatinoamericanadeantropologia.net/congreso2017/in
 dex.php?option=com_jem&view=event&id=1288:trayectoria-de-una-joven-reclusa
 -en-una-institucion-penitenciaria-de-menores-en-medellin-colombia-en-relac
 ion-con-el-consumo-de-drogas
END:VEVENT
BEGIN:VEVENT
UID:event1289@Congreso 2017
DTSTAMP:20260421T012523Z
CATEGORIES:Simposio: Desigualdad\, género y salud
DESCRIPTION:Gerontologia LGBT e a construção de uma “boa velhice” e de um “
 bom sexo” na velhice\nCategoría: Simposio: Desigualdad\, género y salud\nE
 nlace: https://www.asociacionlatinoamericanadeantropologia.net/congreso201
 7/index.php?option=com_jem&view=event&id=1289:gerontologia-lgbt-e-a-constr
 ucao-de-uma-boa-velhice-e-de-um-bom-sexo-na-velhice\n
DTSTART:20170608T140000Z
DTEND:20170608T160000Z
LOCATION:Edificio: 02 Salón: 404\,Universidad Javeriana\,Bogotá\,Colombia
SUMMARY:Gerontologia LGBT e a construção de uma “boa velhice” e de um “bom 
 sexo” na velhice
URL:https://www.asociacionlatinoamericanadeantropologia.net/congreso2017/in
 dex.php?option=com_jem&view=event&id=1289:gerontologia-lgbt-e-a-construcao
 -de-uma-boa-velhice-e-de-um-bom-sexo-na-velhice
END:VEVENT
BEGIN:VEVENT
UID:event1290@Congreso 2017
DTSTAMP:20260421T012523Z
CATEGORIES:Simposio: Desigualdad\, género y salud
DESCRIPTION:Diferencias de género en el envejecimiento Medellín\nCategoría:
  Simposio: Desigualdad\, género y salud\nEnlace: https://www.asociacionlat
 inoamericanadeantropologia.net/congreso2017/index.php?option=com_jem&view=
 event&id=1290:diferencias-de-genero-en-el-envejecimiento-medellin\n
DTSTART:20170608T140000Z
DTEND:20170608T160000Z
LOCATION:Edificio: 02 Salón: 404\,Universidad Javeriana\,Bogotá\,Colombia
SUMMARY:Diferencias de género en el envejecimiento Medellín
URL:https://www.asociacionlatinoamericanadeantropologia.net/congreso2017/in
 dex.php?option=com_jem&view=event&id=1290:diferencias-de-genero-en-el-enve
 jecimiento-medellin
END:VEVENT
BEGIN:VEVENT
UID:event1291@Congreso 2017
DTSTAMP:20260421T012523Z
CATEGORIES:Simposio: Desigualdad\, género y salud
DESCRIPTION:Cuidado: El papel domestico de la mujer en la sociedad y su ocu
 ltamiento en las sociedades capitalistas\nCategoría: Simposio: Desigualdad
 \, género y salud\nEnlace: https://www.asociacionlatinoamericanadeantropol
 ogia.net/congreso2017/index.php?option=com_jem&view=event&id=1291:cuidado-
 el-papel-domestico-de-la-mujer-en-la-sociedad-y-su-ocultamiento-en-las-soc
 iedades-capitalistas\n
DTSTART:20170608T140000Z
DTEND:20170608T160000Z
LOCATION:Edificio: 02 Salón: 404\,Universidad Javeriana\,Bogotá\,Colombia
SUMMARY:Cuidado: El papel domestico de la mujer en la sociedad y su ocultam
 iento en las sociedades capitalistas
URL:https://www.asociacionlatinoamericanadeantropologia.net/congreso2017/in
 dex.php?option=com_jem&view=event&id=1291:cuidado-el-papel-domestico-de-la
 -mujer-en-la-sociedad-y-su-ocultamiento-en-las-sociedades-capitalistas
END:VEVENT
BEGIN:VEVENT
UID:event1292@Congreso 2017
DTSTAMP:20260421T012523Z
CATEGORIES:Simposio: Desigualdad\, género y salud
DESCRIPTION:“Entre cuidar o ser cuidado: diferencias de género entre person
 as que viven con diabetes mellitus en Tuxtla Gutiérrez\, Chiapas”\nCategor
 ía: Simposio: Desigualdad\, género y salud\nEnlace: https://www.asociacion
 latinoamericanadeantropologia.net/congreso2017/index.php?option=com_jem&vi
 ew=event&id=1292:entre-cuidar-o-ser-cuidado-diferencias-de-genero-entre-pe
 rsonas-que-viven-con-diabetes-mellitus-en-tuxtla-gutierrez-chiapas\n
DTSTART:20170608T140000Z
DTEND:20170608T160000Z
LOCATION:Edificio: 02 Salón: 404\,Universidad Javeriana\,Bogotá\,Colombia
SUMMARY:“Entre cuidar o ser cuidado: diferencias de género entre personas q
 ue viven con diabetes mellitus en Tuxtla Gutiérrez\, Chiapas”
URL:https://www.asociacionlatinoamericanadeantropologia.net/congreso2017/in
 dex.php?option=com_jem&view=event&id=1292:entre-cuidar-o-ser-cuidado-difer
 encias-de-genero-entre-personas-que-viven-con-diabetes-mellitus-en-tuxtla-
 gutierrez-chiapas
END:VEVENT
END:VCALENDAR
